BEGIN:VCALENDAR
VERSION:2.0
PRODID:-//IDEENWALD - ECPv6.15.20//NONSGML v1.0//EN
CALSCALE:GREGORIAN
METHOD:PUBLISH
X-ORIGINAL-URL:https://ideenwald-oekosystem.de
X-WR-CALDESC:Veranstaltungen für IDEENWALD
REFRESH-INTERVAL;VALUE=DURATION:PT1H
X-Robots-Tag:noindex
X-PUBLISHED-TTL:PT1H
BEGIN:VTIMEZONE
TZID:Europe/Berlin
BEGIN:DAYLIGHT
TZOFFSETFROM:+0100
TZOFFSETTO:+0200
TZNAME:CEST
DTSTART:20220327T010000
END:DAYLIGHT
BEGIN:STANDARD
TZOFFSETFROM:+0200
TZOFFSETTO:+0100
TZNAME:CET
DTSTART:20221030T010000
END:STANDARD
BEGIN:DAYLIGHT
TZOFFSETFROM:+0100
TZOFFSETTO:+0200
TZNAME:CEST
DTSTART:20230326T010000
END:DAYLIGHT
BEGIN:STANDARD
TZOFFSETFROM:+0200
TZOFFSETTO:+0100
TZNAME:CET
DTSTART:20231029T010000
END:STANDARD
BEGIN:DAYLIGHT
TZOFFSETFROM:+0100
TZOFFSETTO:+0200
TZNAME:CEST
DTSTART:20240331T010000
END:DAYLIGHT
BEGIN:STANDARD
TZOFFSETFROM:+0200
TZOFFSETTO:+0100
TZNAME:CET
DTSTART:20241027T010000
END:STANDARD
END:VTIMEZONE
BEGIN:VEVENT
DTSTART;TZID=Europe/Berlin:20230428T170000
DTEND;TZID=Europe/Berlin:20230428T200000
DTSTAMP:20260424T104516
CREATED:20210114T091030Z
LAST-MODIFIED:20230330T083205Z
UID:257620-1682701200-1682712000@ideenwald-oekosystem.de
SUMMARY:3D-Druck Forum Pfalz in Kaiserslautern
DESCRIPTION:Neben der 3D-Druck Community sind gezielt auch (potenzielle) Anwender dazu eingeladen\, sich mit den Möglichkeiten der Additiven Fertigung in der Region vertraut zu machen. Los geht es mit interessanten Kurzvorträgen zu verschiedenen Aspekten der additiven Fertigung. Im Anschluss wird das Buffet eröffnet und Sie haben Gelegenheit zum persönlichen Austausch und zum Besuch der Informationsstände. Das Event wird u.a. organisiert von Fachexperte und BVMW Mitglied 3DDruckByTeufel.\n \n!Anmeldung und weitere Infos findest du auf der Webseite! \n 
URL:https://ideenwald-oekosystem.de/event/3d-druck-forum-pfalz-in-kaiserslautern/
LOCATION:Business + Innovation Center\, Trippstadter Str. 110\, Kaiserslautern\, 67663
CATEGORIES:Infoveranstaltung
ATTACH;FMTTYPE=image/png:https://ideenwald-oekosystem.de/wp-content/uploads/2023/03/fruehling-13-figur.png
END:VEVENT
END:VCALENDAR