BEGIN:VCALENDAR
VERSION:2.0
PRODID:-//IDEENWALD - ECPv6.15.20//NONSGML v1.0//EN
CALSCALE:GREGORIAN
METHOD:PUBLISH
X-ORIGINAL-URL:https://ideenwald-oekosystem.de
X-WR-CALDESC:Veranstaltungen für IDEENWALD
REFRESH-INTERVAL;VALUE=DURATION:PT1H
X-Robots-Tag:noindex
X-PUBLISHED-TTL:PT1H
BEGIN:VTIMEZONE
TZID:Europe/Berlin
BEGIN:DAYLIGHT
TZOFFSETFROM:+0100
TZOFFSETTO:+0200
TZNAME:CEST
DTSTART:20210328T010000
END:DAYLIGHT
BEGIN:STANDARD
TZOFFSETFROM:+0200
TZOFFSETTO:+0100
TZNAME:CET
DTSTART:20211031T010000
END:STANDARD
BEGIN:DAYLIGHT
TZOFFSETFROM:+0100
TZOFFSETTO:+0200
TZNAME:CEST
DTSTART:20220327T010000
END:DAYLIGHT
BEGIN:STANDARD
TZOFFSETFROM:+0200
TZOFFSETTO:+0100
TZNAME:CET
DTSTART:20221030T010000
END:STANDARD
BEGIN:DAYLIGHT
TZOFFSETFROM:+0100
TZOFFSETTO:+0200
TZNAME:CEST
DTSTART:20230326T010000
END:DAYLIGHT
BEGIN:STANDARD
TZOFFSETFROM:+0200
TZOFFSETTO:+0100
TZNAME:CET
DTSTART:20231029T010000
END:STANDARD
END:VTIMEZONE
BEGIN:VEVENT
DTSTART;VALUE=DATE:20221114
DTEND;VALUE=DATE:20221121
DTSTAMP:20260420T165748
CREATED:20210119T150052Z
LAST-MODIFIED:20221019T153436Z
UID:256726-1668384000-1668988799@ideenwald-oekosystem.de
SUMMARY:Gründungswoche
DESCRIPTION:Während der bundesweiten Gründungswoche vom 14. bis 20. November 2022 bieten Partner*innen Workshops\, Seminare\, Planspiele\, Wettbewerbe und viele weitere Veranstaltungen rund um das Thema berufliche Selbständigkeit an. \nWeitere Einzelheiten zu den Veranstaltungen im Rahmen der Gründungswoche auf der Webseite.
URL:https://ideenwald-oekosystem.de/event/gruenderwoche/
CATEGORIES:Infoveranstaltung
END:VEVENT
END:VCALENDAR