BEGIN:VCALENDAR
VERSION:2.0
PRODID:-//IDEENWALD - ECPv6.15.20//NONSGML v1.0//EN
CALSCALE:GREGORIAN
METHOD:PUBLISH
X-ORIGINAL-URL:https://ideenwald-oekosystem.de
X-WR-CALDESC:Veranstaltungen für IDEENWALD
REFRESH-INTERVAL;VALUE=DURATION:PT1H
X-Robots-Tag:noindex
X-PUBLISHED-TTL:PT1H
BEGIN:VTIMEZONE
TZID:Europe/Berlin
BEGIN:DAYLIGHT
TZOFFSETFROM:+0100
TZOFFSETTO:+0200
TZNAME:CEST
DTSTART:20220327T010000
END:DAYLIGHT
BEGIN:STANDARD
TZOFFSETFROM:+0200
TZOFFSETTO:+0100
TZNAME:CET
DTSTART:20221030T010000
END:STANDARD
BEGIN:DAYLIGHT
TZOFFSETFROM:+0100
TZOFFSETTO:+0200
TZNAME:CEST
DTSTART:20230326T010000
END:DAYLIGHT
BEGIN:STANDARD
TZOFFSETFROM:+0200
TZOFFSETTO:+0100
TZNAME:CET
DTSTART:20231029T010000
END:STANDARD
BEGIN:DAYLIGHT
TZOFFSETFROM:+0100
TZOFFSETTO:+0200
TZNAME:CEST
DTSTART:20240331T010000
END:DAYLIGHT
BEGIN:STANDARD
TZOFFSETFROM:+0200
TZOFFSETTO:+0100
TZNAME:CET
DTSTART:20241027T010000
END:STANDARD
END:VTIMEZONE
BEGIN:VEVENT
DTSTART;VALUE=DATE:20230517
DTEND;VALUE=DATE:20230518
DTSTAMP:20260422T053728
CREATED:20210113T110022Z
LAST-MODIFIED:20230223T091857Z
UID:257462-1684281600-1684367999@ideenwald-oekosystem.de
SUMMARY:Pitch Club #28
DESCRIPTION:!ANMELDEN MÜSST IHR EUCH AUF DER THE PITCH CLUB WEBSEITE! \nDie Veranstaltung gibt jungen\, kreativen Startups die Möglichkeit\, ihre Idee vor erfahrenen Investoren zu präsentieren. \nDabei wird den „pitchenden“ Startups alles abverlangt: Die Bühne wird zum „Ring“\, in dem sich Gründerinnen und Gründer gegenüber den kritischen Fragen der Investoren verteidigen müssen \nDu denkst\, Deine Idee ist gut und hält den kritischen Fragen erfahrener Investoren stand? Dann präsentiere Dein Startup beim kommenden Pitch Club.
URL:https://ideenwald-oekosystem.de/event/pitch-club/
LOCATION:Frankfurt\, Frankfurt\, Deutschland
ATTACH;FMTTYPE=image/jpeg:https://ideenwald-oekosystem.de/wp-content/uploads/2023/02/sommer-1-figur.jpg
END:VEVENT
END:VCALENDAR