BEGIN:VCALENDAR
VERSION:2.0
PRODID:-//IDEENWALD - ECPv6.15.20//NONSGML v1.0//EN
CALSCALE:GREGORIAN
METHOD:PUBLISH
X-ORIGINAL-URL:https://ideenwald-oekosystem.de
X-WR-CALDESC:Veranstaltungen für IDEENWALD
REFRESH-INTERVAL;VALUE=DURATION:PT1H
X-Robots-Tag:noindex
X-PUBLISHED-TTL:PT1H
BEGIN:VTIMEZONE
TZID:Europe/Berlin
BEGIN:DAYLIGHT
TZOFFSETFROM:+0100
TZOFFSETTO:+0200
TZNAME:CEST
DTSTART:20240331T010000
END:DAYLIGHT
BEGIN:STANDARD
TZOFFSETFROM:+0200
TZOFFSETTO:+0100
TZNAME:CET
DTSTART:20241027T010000
END:STANDARD
BEGIN:DAYLIGHT
TZOFFSETFROM:+0100
TZOFFSETTO:+0200
TZNAME:CEST
DTSTART:20250330T010000
END:DAYLIGHT
BEGIN:STANDARD
TZOFFSETFROM:+0200
TZOFFSETTO:+0100
TZNAME:CET
DTSTART:20251026T010000
END:STANDARD
BEGIN:DAYLIGHT
TZOFFSETFROM:+0100
TZOFFSETTO:+0200
TZNAME:CEST
DTSTART:20260329T010000
END:DAYLIGHT
BEGIN:STANDARD
TZOFFSETFROM:+0200
TZOFFSETTO:+0100
TZNAME:CET
DTSTART:20261025T010000
END:STANDARD
END:VTIMEZONE
BEGIN:VEVENT
DTSTART;TZID=Europe/Berlin:20250820T090000
DTEND;TZID=Europe/Berlin:20250820T150000
DTSTAMP:20260421T005842
CREATED:20250612T105837Z
LAST-MODIFIED:20250612T105837Z
UID:260956-1755680400-1755702000@ideenwald-oekosystem.de
SUMMARY:KI-Dschungelexpedition – Entdecke dein Potenzial mit Künstlicher Intelligenz
DESCRIPTION:In diesem interaktiven Workshop tauchst du in die Welt der Künstlichen Intelligenz ein – egal ob Anfängerin oder Fortgeschrittener. Du lernst\, wie du KI-Tools sinnvoll\, effizient und datenschutzkonform im Gründungs- und Büroalltag einsetzen kannst\, um Zeit zu sparen und deine Arbeitsprozesse zu optimieren. Bring dein Gerät mit – und hebe deine Produktivität auf das nächste Level! \nHier geht’s zum Anmeldung
URL:https://ideenwald-oekosystem.de/event/ki-dschungelexpedition-entdecke-dein-potenzial-mit-kuenstlicher-intelligenz/
LOCATION:Universität Trier // Campus I\, Gebäude C\, Raum C 22\, Universitätsring 15\, Trier\, 54296\, Germany
CATEGORIES:Workshop
ATTACH;FMTTYPE=image/png:https://ideenwald-oekosystem.de/wp-content/uploads/2023/05/sommer-4-figur.png
END:VEVENT
END:VCALENDAR