BEGIN:VCALENDAR
VERSION:2.0
PRODID:-//IDEENWALD - ECPv6.15.20//NONSGML v1.0//EN
CALSCALE:GREGORIAN
METHOD:PUBLISH
X-ORIGINAL-URL:https://ideenwald-oekosystem.de
X-WR-CALDESC:Veranstaltungen für IDEENWALD
REFRESH-INTERVAL;VALUE=DURATION:PT1H
X-Robots-Tag:noindex
X-PUBLISHED-TTL:PT1H
BEGIN:VTIMEZONE
TZID:Europe/Berlin
BEGIN:DAYLIGHT
TZOFFSETFROM:+0100
TZOFFSETTO:+0200
TZNAME:CEST
DTSTART:20200329T010000
END:DAYLIGHT
BEGIN:STANDARD
TZOFFSETFROM:+0200
TZOFFSETTO:+0100
TZNAME:CET
DTSTART:20201025T010000
END:STANDARD
BEGIN:DAYLIGHT
TZOFFSETFROM:+0100
TZOFFSETTO:+0200
TZNAME:CEST
DTSTART:20210328T010000
END:DAYLIGHT
BEGIN:STANDARD
TZOFFSETFROM:+0200
TZOFFSETTO:+0100
TZNAME:CET
DTSTART:20211031T010000
END:STANDARD
BEGIN:DAYLIGHT
TZOFFSETFROM:+0100
TZOFFSETTO:+0200
TZNAME:CEST
DTSTART:20220327T010000
END:DAYLIGHT
BEGIN:STANDARD
TZOFFSETFROM:+0200
TZOFFSETTO:+0100
TZNAME:CET
DTSTART:20221030T010000
END:STANDARD
END:VTIMEZONE
BEGIN:VEVENT
DTSTART;TZID=Europe/Berlin:20211108T090000
DTEND;TZID=Europe/Berlin:20211108T170000
DTSTAMP:20260425T121911
CREATED:20210224T070046Z
LAST-MODIFIED:20220208T154308Z
UID:10883-1636362000-1636390800@ideenwald-oekosystem.de
SUMMARY:"Innovative Thinker" Veranstaltungsreihe
DESCRIPTION:Lerne neue Skills und entwickle dich weiter! \n„Innovativ“ bedeutet etwas Neues zu kreieren oder etwas Bestehendes zu erneuern\, sodass Mehrwert geschaffen wird. Aber wie findet man heraus\, welche Zustände eine Innovation benötigt\, wie Probleme gelöst werden und wie man seine Lösungen sichtbar darstellt? Genau mit diesen Fragen beschäftigt sich unsere neue Veranstaltungsreihe „Innovative Thinker„. Besucht vier der sechs angeboten Workshops und erhaltet von uns ein Zertifikat. \nDie Veranstaltungsreihe richtet sich an Studis von Hochschule & TU Kaiserslautern. Nach deiner Anmeldung erhältst du Anfang November alle weiteren Infos zu den Veranstaltungsorten und Zeiten. \nWeitere Informationen und die Anmeldung: Hier klicken!
URL:https://ideenwald-oekosystem.de/event/innovative-thinker-veranstaltungsreihe/
LOCATION:Hochschule Kaiserslautern\, Deutschland
CATEGORIES:Workshop
END:VEVENT
BEGIN:VEVENT
DTSTART;TZID=Europe/Berlin:20211110T160000
DTEND;TZID=Europe/Berlin:20211110T180000
DTSTAMP:20260425T121911
CREATED:20210224T062038Z
LAST-MODIFIED:20211027T111441Z
UID:8062-1636560000-1636567200@ideenwald-oekosystem.de
SUMMARY:Quickstart KL: ENTDECKE DEIN WOFÜR mit Ali Mahlodji
DESCRIPTION:EU Jugendbotschafter und Gründer von WATCHADO \nAli Mahlodji nimmt dich am 10. November\, von 16:00-18:00 Uhr mit auf eine Reise zu Dir selbst und wird Dir in einem inspirierenden Online-Vortrag zu seinen Erfahrungen dabei helfen\, Deine Reise zu beginnen! \nDas Gründungsbüro TU & HS Kaiserslautern bringt Ali Mahlodji durch das Projekt IDEENWALD digital nach Kaiserslautern. Egal ob Erstsemester\, Wissenschaftler*In\, Schüler*in\, Gründungsinteressierte oder etablierte*r Unternehmer*in: Entdecke mit Ali\, wie Du herausfindest\, was noch alles in Dir steckt und lass Dich inspirieren\, Deine Ideen und Träume wirklich zu leben. Alles ist möglich\, die Reise zu Deinem Wofür bringt Dich zum Ziel. \nWeitere Informationen und die Anmeldung: Hier klicken!
URL:https://ideenwald-oekosystem.de/event/entdecke-dein-wofuer/
CATEGORIES:Infoveranstaltung
ORGANIZER;CN="Gr%C3%BCndungsb%C3%BCro TU&HS Kaiserslautern":MAILTO:info@gruendungsbuero.info
END:VEVENT
BEGIN:VEVENT
DTSTART;TZID=Europe/Berlin:20211116T160000
DTEND;TZID=Europe/Berlin:20211116T180000
DTSTAMP:20260425T121911
CREATED:20210224T060335Z
LAST-MODIFIED:20211209T212918Z
UID:8066-1637078400-1637085600@ideenwald-oekosystem.de
SUMMARY:How to found in Germany? - Workshop for international students
DESCRIPTION:You are thinking about founding your own company in the country where you are studying and living now?Then you should attend our workshop – since founding in Germany may be very different from what it is like in your home country. \nBesides knowing the language\, there are many details to learn about the German administrative system. We will teach you the “hard facts” you need to know\, because founding a company in a foreign country means much more than finding team-partners\, writing a business plan and making financial decisions. \nWe will explain the different German regulations to you and give you a clear picture of the departments you have to visit\, which documents you have to fill out and where you find further support. \nMore information & registration: Click here!
URL:https://ideenwald-oekosystem.de/event/how-to-found-in-germany-workshop-for-international-students/
CATEGORIES:Infoveranstaltung
END:VEVENT
BEGIN:VEVENT
DTSTART;TZID=Europe/Berlin:20211118T090000
DTEND;TZID=Europe/Berlin:20211118T130000
DTSTAMP:20260425T121911
CREATED:20210224T060058Z
LAST-MODIFIED:20211112T124610Z
UID:8047-1637226000-1637240400@ideenwald-oekosystem.de
SUMMARY:"Business-2-Consumer" Marketing Workshop
DESCRIPTION:Wie schaffst Du es\, die Menschen für Dein Produkt zu begeistern? \nDie ersten 6 Teams bekommen ab 13 Uhr jeweils eine 40-minütige Individualberatung und passgenaue Strategie mit Sven Winter. Alle weiteren TeilnehmerInnen\, sind herzlich dazu eingeladen dem ersten allgemeinen Teil des Workshops von 9:00 bis 13:00 beizuwohnen. \nDu erfährst Details über mögliche Strategien anhand greifbarer Beispiele und erarbeitest Dir unter Anleitung unseres Experten Deine eigene\, passgenaue Strategie! Inhalte sind dabei unter anderem: Kommunikation\, Wettbewerb\, Zielgruppen-Analyse\, Markt-Definition\, Produktpolitik\, Preispolitik und Vertrieb.\n *** Der Workshop findet in Präsenz statt: Morlauterer Straße 31\, Raum Nr. B401 im B-Gebäude\, 67657 Kaiserslautern – für Verpflegung & Wlan ist gesorgt  ***  \nWeitere Informationen und die Anmeldung: Hier klicken!
URL:https://ideenwald-oekosystem.de/event/business-2-consumer-marketing-workshop/
LOCATION:Hochschule Kaiserslautern\, Morlauterer Straße\, Morlauterer Straße 31\, Kaiserslautern\, Rheinland-Pfalz\, 67657\, Deutschland
CATEGORIES:Workshop
ORGANIZER;CN="Gr%C3%BCndungsb%C3%BCro TU&HS Kaiserslautern":MAILTO:info@gruendungsbuero.info
END:VEVENT
END:VCALENDAR