BEGIN:VCALENDAR
VERSION:2.0
PRODID:-//IDEENWALD - ECPv6.15.20//NONSGML v1.0//EN
CALSCALE:GREGORIAN
METHOD:PUBLISH
X-WR-CALNAME:IDEENWALD
X-ORIGINAL-URL:https://ideenwald-oekosystem.de
X-WR-CALDESC:Veranstaltungen für IDEENWALD
REFRESH-INTERVAL;VALUE=DURATION:PT1H
X-Robots-Tag:noindex
X-PUBLISHED-TTL:PT1H
BEGIN:VTIMEZONE
TZID:Europe/Berlin
BEGIN:DAYLIGHT
TZOFFSETFROM:+0100
TZOFFSETTO:+0200
TZNAME:CEST
DTSTART:20220327T010000
END:DAYLIGHT
BEGIN:STANDARD
TZOFFSETFROM:+0200
TZOFFSETTO:+0100
TZNAME:CET
DTSTART:20221030T010000
END:STANDARD
BEGIN:DAYLIGHT
TZOFFSETFROM:+0100
TZOFFSETTO:+0200
TZNAME:CEST
DTSTART:20230326T010000
END:DAYLIGHT
BEGIN:STANDARD
TZOFFSETFROM:+0200
TZOFFSETTO:+0100
TZNAME:CET
DTSTART:20231029T010000
END:STANDARD
BEGIN:DAYLIGHT
TZOFFSETFROM:+0100
TZOFFSETTO:+0200
TZNAME:CEST
DTSTART:20240331T010000
END:DAYLIGHT
BEGIN:STANDARD
TZOFFSETFROM:+0200
TZOFFSETTO:+0100
TZNAME:CET
DTSTART:20241027T010000
END:STANDARD
END:VTIMEZONE
BEGIN:VEVENT
DTSTART;TZID=Europe/Berlin:20230418T160000
DTEND;TZID=Europe/Berlin:20230418T210000
DTSTAMP:20260422T124243
CREATED:20210114T110014Z
LAST-MODIFIED:20230223T083607Z
UID:257454-1681833600-1681851600@ideenwald-oekosystem.de
SUMMARY:Der Betze ruft: Mit Innovationen erfolgreich!
DESCRIPTION:!ANMELDEN MÜSST IHR EUCH AUF DER BVMW Webseite! \nDer Betze ruft: Mit Innovationen erfolgreich! Zu diesem Zukunftsthema können ihr über Best Practice Beispiele hochinteressante Geschäftsideen kennenlernen. Zudem beleuchtet der BVMW\,  Innovationen im Hinblick auf Rechtssicherheit\, Finanzen und Netzwerk zielführend gefördert werden können.
URL:https://ideenwald-oekosystem.de/event/der-betze-ruft-mit-innovationen-erfolgreich/
LOCATION:Club Lounge 100\, Fritz-Walter-Straße 1\, Kaiserslautern\, 67663\, Deutschland
CATEGORIES:Infoveranstaltung
ATTACH;FMTTYPE=image/jpeg:https://ideenwald-oekosystem.de/wp-content/uploads/2023/02/fruehling-9-figur.jpg
END:VEVENT
END:VCALENDAR