BEGIN:VCALENDAR
VERSION:2.0
PRODID:-//IDEENWALD - ECPv6.15.20//NONSGML v1.0//EN
CALSCALE:GREGORIAN
METHOD:PUBLISH
X-ORIGINAL-URL:https://ideenwald-oekosystem.de
X-WR-CALDESC:Veranstaltungen für IDEENWALD
REFRESH-INTERVAL;VALUE=DURATION:PT1H
X-Robots-Tag:noindex
X-PUBLISHED-TTL:PT1H
BEGIN:VTIMEZONE
TZID:Europe/Berlin
BEGIN:DAYLIGHT
TZOFFSETFROM:+0100
TZOFFSETTO:+0200
TZNAME:CEST
DTSTART:20220327T010000
END:DAYLIGHT
BEGIN:STANDARD
TZOFFSETFROM:+0200
TZOFFSETTO:+0100
TZNAME:CET
DTSTART:20221030T010000
END:STANDARD
BEGIN:DAYLIGHT
TZOFFSETFROM:+0100
TZOFFSETTO:+0200
TZNAME:CEST
DTSTART:20230326T010000
END:DAYLIGHT
BEGIN:STANDARD
TZOFFSETFROM:+0200
TZOFFSETTO:+0100
TZNAME:CET
DTSTART:20231029T010000
END:STANDARD
BEGIN:DAYLIGHT
TZOFFSETFROM:+0100
TZOFFSETTO:+0200
TZNAME:CEST
DTSTART:20240331T010000
END:DAYLIGHT
BEGIN:STANDARD
TZOFFSETFROM:+0200
TZOFFSETTO:+0100
TZNAME:CET
DTSTART:20241027T010000
END:STANDARD
END:VTIMEZONE
BEGIN:VEVENT
DTSTART;TZID=Europe/Berlin:20230526T163000
DTEND;TZID=Europe/Berlin:20230526T210000
DTSTAMP:20260422T071334
CREATED:20211113T100013Z
LAST-MODIFIED:20230511T111951Z
UID:257696-1685118600-1685134800@ideenwald-oekosystem.de
SUMMARY:Frauen-Netzwerktreffen bei IVB Direktmarketing GmbH
DESCRIPTION:Tanja Gehm führt durch den Betrieb der IVB Direktmarketing GmbH: Fulfillment\, Konfektionierung / Kommissionierung und Lagerung. Die wertvollen Mitarbeiter*innen\, Innovation\, technische Kompetenz und automatisierte Prozesse spielen dort eine tragende Rolle.\n \nDanach wird\, wenige Kilometer zum Ausgangspunkt\, einer kleinen Wanderung stattfinden.\nNach diesem Spaziergang von 1- 1\,5 Stunden (ca 4\,5 km) kehrt die Gruppe im Madre Terra zu einem gemütlichen kulinarischen Abschluss ein. \n\n!Anmeldung und weiter Information findest du hier!
URL:https://ideenwald-oekosystem.de/event/frauen-netzwerktreffen-bei-ivb-direktmarketing-gmbh/
LOCATION:Ruhweg 17 Ruhweg 17 67307 Göllheim
CATEGORIES:Infoveranstaltung
ATTACH;FMTTYPE=image/jpeg:https://ideenwald-oekosystem.de/wp-content/uploads/2023/05/sommer-2-figur.jpg
END:VEVENT
END:VCALENDAR