BEGIN:VCALENDAR
VERSION:2.0
PRODID:-//IDEENWALD - ECPv6.15.20//NONSGML v1.0//EN
CALSCALE:GREGORIAN
METHOD:PUBLISH
X-ORIGINAL-URL:https://ideenwald-oekosystem.de
X-WR-CALDESC:Veranstaltungen für IDEENWALD
REFRESH-INTERVAL;VALUE=DURATION:PT1H
X-Robots-Tag:noindex
X-PUBLISHED-TTL:PT1H
BEGIN:VTIMEZONE
TZID:Europe/Berlin
BEGIN:DAYLIGHT
TZOFFSETFROM:+0100
TZOFFSETTO:+0200
TZNAME:CEST
DTSTART:20230326T010000
END:DAYLIGHT
BEGIN:STANDARD
TZOFFSETFROM:+0200
TZOFFSETTO:+0100
TZNAME:CET
DTSTART:20231029T010000
END:STANDARD
BEGIN:DAYLIGHT
TZOFFSETFROM:+0100
TZOFFSETTO:+0200
TZNAME:CEST
DTSTART:20240331T010000
END:DAYLIGHT
BEGIN:STANDARD
TZOFFSETFROM:+0200
TZOFFSETTO:+0100
TZNAME:CET
DTSTART:20241027T010000
END:STANDARD
BEGIN:DAYLIGHT
TZOFFSETFROM:+0100
TZOFFSETTO:+0200
TZNAME:CEST
DTSTART:20250330T010000
END:DAYLIGHT
BEGIN:STANDARD
TZOFFSETFROM:+0200
TZOFFSETTO:+0100
TZNAME:CET
DTSTART:20251026T010000
END:STANDARD
END:VTIMEZONE
BEGIN:VEVENT
DTSTART;TZID=Europe/Berlin:20240131T150000
DTEND;TZID=Europe/Berlin:20240131T173000
DTSTAMP:20260424T011452
CREATED:20210106T200044Z
LAST-MODIFIED:20240129T135900Z
UID:258549-1706713200-1706722200@ideenwald-oekosystem.de
SUMMARY:Gründungskonzept & Marketing - Wie hängt das miteinander zusammen?
DESCRIPTION:Marketing ist der Schlüssel zum Unternehmenserfolg\, weil es ist nicht nur Werbung. \nMarketing heißt übersetzt ‚Vermarkten‘ – und im Gründungskonzept geht es genau darum: \nWie vermarkte ich erfolgreich meine Produkte und Dienstleistungen?\n Das startet mit der Auswahl der richtigen Zielgruppen\, der „richtigen Marktnische“\, und beinhaltet Themen wie Angebots- und Preisgestaltung\, Marke & Positionierung\, Kundenakquise\, Werbung und die dazugehörige Umsatz- und Maßnahmenplanung.\nLetztlich ist das Gründungskonzept ein Marketingplan\, so wie er in jedem Businessplan zu finden ist. \nEin Vortrag\, wie Sie in sechs Schritten zu den richtigen Marketing-Entscheidungen kommen – vor als auch nach der Gründung und später im Arbeitsalltag.\nVorkenntnisse sind nicht erforderlich! Wir freuen uns nicht nur auf einen regen Austausch mit Frauen in der Gründungsphase\, sondern auch mit Unternehmerinnen\, die bereits am Markt agieren. \nSie sind herzlich willkommen! \nAnmeldung unter „Gründungskonzept und Marketing“ | Arbeitskammer des Saarlandes
URL:https://ideenwald-oekosystem.de/event/gruendungskonzept-marketing/
LOCATION:co:hub66\, Neumarkt 15\, Saarbrücken\, Saarland\, 66117\, Deutschland
CATEGORIES:Infoveranstaltung
ATTACH;FMTTYPE=image/png:https://ideenwald-oekosystem.de/wp-content/uploads/2023/02/fruehling-2-figur.png
ORGANIZER;CN="Bettina Wikarski":MAILTO:bw@bettina-wikarski.de
END:VEVENT
END:VCALENDAR