BEGIN:VCALENDAR
VERSION:2.0
PRODID:-//IDEENWALD - ECPv6.15.20//NONSGML v1.0//EN
CALSCALE:GREGORIAN
METHOD:PUBLISH
X-WR-CALNAME:IDEENWALD
X-ORIGINAL-URL:https://ideenwald-oekosystem.de
X-WR-CALDESC:Veranstaltungen für IDEENWALD
REFRESH-INTERVAL;VALUE=DURATION:PT1H
X-Robots-Tag:noindex
X-PUBLISHED-TTL:PT1H
BEGIN:VTIMEZONE
TZID:Europe/Berlin
BEGIN:DAYLIGHT
TZOFFSETFROM:+0100
TZOFFSETTO:+0200
TZNAME:CEST
DTSTART:20230326T010000
END:DAYLIGHT
BEGIN:STANDARD
TZOFFSETFROM:+0200
TZOFFSETTO:+0100
TZNAME:CET
DTSTART:20231029T010000
END:STANDARD
BEGIN:DAYLIGHT
TZOFFSETFROM:+0100
TZOFFSETTO:+0200
TZNAME:CEST
DTSTART:20240331T010000
END:DAYLIGHT
BEGIN:STANDARD
TZOFFSETFROM:+0200
TZOFFSETTO:+0100
TZNAME:CET
DTSTART:20241027T010000
END:STANDARD
BEGIN:DAYLIGHT
TZOFFSETFROM:+0100
TZOFFSETTO:+0200
TZNAME:CEST
DTSTART:20250330T010000
END:DAYLIGHT
BEGIN:STANDARD
TZOFFSETFROM:+0200
TZOFFSETTO:+0100
TZNAME:CET
DTSTART:20251026T010000
END:STANDARD
END:VTIMEZONE
BEGIN:VEVENT
DTSTART;TZID=Europe/Berlin:20240614T180000
DTEND;TZID=Europe/Berlin:20240614T220000
DTSTAMP:20260423T144537
CREATED:20201220T140040Z
LAST-MODIFIED:20240222T151226Z
UID:259145-1718388000-1718402400@ideenwald-oekosystem.de
SUMMARY:Gründerinnen Stammtisch 02/24
DESCRIPTION:Der nächste Gründerinnen Stammtisch findet am 14. Juni\, um 18 Uhr im Fraunhofer IESE statt! Dieses Mal geht es um Vereinbarkeit von Privatleben mit dem Beruf. \nImpulsgeberin ist Maren Will\, die inspirierend von ihren Erfahrungen als Gründerin sprechen wird und wie sie damit auch andere Gründerinnen im Business Coaching berät. Hier setzt sie an strategisch Vereinbarkeit direkt von Anfang an\, in das eigene Business zu integrieren. Damit Privatleben und Arbeit sich nicht immer in die Quere kommen!\nDie Verpflegung organisieren wir wieder gemeinschaftlich. \nWeitere Informationen und die Anmeldung findet ihr hier:\nGründungsbüro-Webseite \nWir freuen uns auf euer zahlreiches Erscheinen und einen inspirierenden Abend voller wertvoller Informationen und Erfahrungen.
URL:https://ideenwald-oekosystem.de/event/gruenderinnen-stammtisch-02-24/
LOCATION:Fraunhofer IESE
ATTACH;FMTTYPE=image/jpeg:https://ideenwald-oekosystem.de/wp-content/uploads/2023/05/sommer-10-figur.jpg
END:VEVENT
END:VCALENDAR