BEGIN:VCALENDAR
VERSION:2.0
PRODID:-//IDEENWALD - ECPv6.15.20//NONSGML v1.0//EN
CALSCALE:GREGORIAN
METHOD:PUBLISH
X-WR-CALNAME:IDEENWALD
X-ORIGINAL-URL:https://ideenwald-oekosystem.de
X-WR-CALDESC:Veranstaltungen für IDEENWALD
REFRESH-INTERVAL;VALUE=DURATION:PT1H
X-Robots-Tag:noindex
X-PUBLISHED-TTL:PT1H
BEGIN:VTIMEZONE
TZID:Europe/Berlin
BEGIN:DAYLIGHT
TZOFFSETFROM:+0100
TZOFFSETTO:+0200
TZNAME:CEST
DTSTART:20210328T010000
END:DAYLIGHT
BEGIN:STANDARD
TZOFFSETFROM:+0200
TZOFFSETTO:+0100
TZNAME:CET
DTSTART:20211031T010000
END:STANDARD
BEGIN:DAYLIGHT
TZOFFSETFROM:+0100
TZOFFSETTO:+0200
TZNAME:CEST
DTSTART:20220327T010000
END:DAYLIGHT
BEGIN:STANDARD
TZOFFSETFROM:+0200
TZOFFSETTO:+0100
TZNAME:CET
DTSTART:20221030T010000
END:STANDARD
BEGIN:DAYLIGHT
TZOFFSETFROM:+0100
TZOFFSETTO:+0200
TZNAME:CEST
DTSTART:20230326T010000
END:DAYLIGHT
BEGIN:STANDARD
TZOFFSETFROM:+0200
TZOFFSETTO:+0100
TZNAME:CET
DTSTART:20231029T010000
END:STANDARD
END:VTIMEZONE
BEGIN:VEVENT
DTSTART;TZID=Europe/Berlin:20220914T100000
DTEND;TZID=Europe/Berlin:20220917T160000
DTSTAMP:20260425T180625
CREATED:20210119T210024Z
LAST-MODIFIED:20220825T133209Z
UID:256585-1663149600-1663430400@ideenwald-oekosystem.de
SUMMARY:Healthcare Hackathon Mainz 2022
DESCRIPTION:Der Healthcare Hackathon geht auch in 2022 in eine neue Runde! Seid dabei vom 14.09. – 17.09.2022 in der Location Altes Postlager in Mainz. \nWeitere Informationen und Anmeldung unter der Webseite! \n 
URL:https://ideenwald-oekosystem.de/event/healthcare-hackathon-mainz-2022/
LOCATION:Altes Postlager Mainz\, Mombacher Str. 11-15\, Mainz\, 55122\, Deutschland
END:VEVENT
END:VCALENDAR