BEGIN:VCALENDAR
VERSION:2.0
PRODID:-//IDEENWALD - ECPv6.15.20//NONSGML v1.0//EN
CALSCALE:GREGORIAN
METHOD:PUBLISH
X-ORIGINAL-URL:https://ideenwald-oekosystem.de
X-WR-CALDESC:Veranstaltungen für IDEENWALD
REFRESH-INTERVAL;VALUE=DURATION:PT1H
X-Robots-Tag:noindex
X-PUBLISHED-TTL:PT1H
BEGIN:VTIMEZONE
TZID:Europe/Berlin
BEGIN:DAYLIGHT
TZOFFSETFROM:+0100
TZOFFSETTO:+0200
TZNAME:CEST
DTSTART:20220327T010000
END:DAYLIGHT
BEGIN:STANDARD
TZOFFSETFROM:+0200
TZOFFSETTO:+0100
TZNAME:CET
DTSTART:20221030T010000
END:STANDARD
BEGIN:DAYLIGHT
TZOFFSETFROM:+0100
TZOFFSETTO:+0200
TZNAME:CEST
DTSTART:20230326T010000
END:DAYLIGHT
BEGIN:STANDARD
TZOFFSETFROM:+0200
TZOFFSETTO:+0100
TZNAME:CET
DTSTART:20231029T010000
END:STANDARD
BEGIN:DAYLIGHT
TZOFFSETFROM:+0100
TZOFFSETTO:+0200
TZNAME:CEST
DTSTART:20240331T010000
END:DAYLIGHT
BEGIN:STANDARD
TZOFFSETFROM:+0200
TZOFFSETTO:+0100
TZNAME:CET
DTSTART:20241027T010000
END:STANDARD
END:VTIMEZONE
BEGIN:VEVENT
DTSTART;VALUE=DATE:20230904
DTEND;VALUE=DATE:20230909
DTSTAMP:20260419T160114
CREATED:20210109T210035Z
LAST-MODIFIED:20230525T100720Z
UID:257156-1693785600-1694217599@ideenwald-oekosystem.de
SUMMARY:SummerSchool 2023
DESCRIPTION:SummerSchool 2023 – Von der Idee zum Konzept im kreativen Ambiente. \n\n\n\nDu hast eine Idee\, an der Du intensiv arbeiten möchtest oder strebst bereits die Selbstständigkeit an? Wir unterstützen Dich dabei! \n\n\n\nHier wird aus deiner Idee Schritt für Schritt ein tragfähiges Konzept! \n\n\n\nVon Montag\, den 04. September bis Freitag\, den 08. September 2023 hast Du die einzigartige Chance\, Deine Idee eine ganze Woche lang strukturiert und unter der Anleitung von Experten auszuarbeiten. Die Lerninhalte werden dabei von den Referenten der SummerSchool nach dem „Learning by doing“ – Prinzip vermittelt. Du erarbeitest Dir die Inhalte unter Anleitung von erfahrenen Profis und wendest sie direkt auf Deine Idee an. So wird aus Deiner ganz persönlichen Vision ein nachhaltiges Konzept. !ANMELDEN MÜSST IHR EUCH AUF DER GRÜNDUNGSBÜRO WEBSEITE!
URL:https://ideenwald-oekosystem.de/event/summerschool-2023/
LOCATION:Galappmühle Tagungs- und Freizeithaus\, An der Galappmühle 3\, Kaiserslautern\, Rheinland-Pfalz\, 67659\, Deutschland
CATEGORIES:Workshop
ATTACH;FMTTYPE=image/jpeg:https://ideenwald-oekosystem.de/wp-content/uploads/2021/01/drachenfels-pixabay.jpg
END:VEVENT
END:VCALENDAR