BEGIN:VCALENDAR
VERSION:2.0
PRODID:-//IDEENWALD - ECPv6.15.20//NONSGML v1.0//EN
CALSCALE:GREGORIAN
METHOD:PUBLISH
X-ORIGINAL-URL:https://ideenwald-oekosystem.de
X-WR-CALDESC:Veranstaltungen für IDEENWALD
REFRESH-INTERVAL;VALUE=DURATION:PT1H
X-Robots-Tag:noindex
X-PUBLISHED-TTL:PT1H
BEGIN:VTIMEZONE
TZID:Europe/Berlin
BEGIN:DAYLIGHT
TZOFFSETFROM:+0100
TZOFFSETTO:+0200
TZNAME:CEST
DTSTART:20220327T010000
END:DAYLIGHT
BEGIN:STANDARD
TZOFFSETFROM:+0200
TZOFFSETTO:+0100
TZNAME:CET
DTSTART:20221030T010000
END:STANDARD
BEGIN:DAYLIGHT
TZOFFSETFROM:+0100
TZOFFSETTO:+0200
TZNAME:CEST
DTSTART:20230326T010000
END:DAYLIGHT
BEGIN:STANDARD
TZOFFSETFROM:+0200
TZOFFSETTO:+0100
TZNAME:CET
DTSTART:20231029T010000
END:STANDARD
BEGIN:DAYLIGHT
TZOFFSETFROM:+0100
TZOFFSETTO:+0200
TZNAME:CEST
DTSTART:20240331T010000
END:DAYLIGHT
BEGIN:STANDARD
TZOFFSETFROM:+0200
TZOFFSETTO:+0100
TZNAME:CET
DTSTART:20241027T010000
END:STANDARD
END:VTIMEZONE
BEGIN:VEVENT
DTSTART;TZID=Europe/Berlin:20230330T160000
DTEND;TZID=Europe/Berlin:20230330T183000
DTSTAMP:20260421T115317
CREATED:20210115T060028Z
LAST-MODIFIED:20230223T085139Z
UID:257458-1680192000-1680201000@ideenwald-oekosystem.de
SUMMARY:Wirtschaftstreff Westpfalz - Corning GmbH
DESCRIPTION:!ANMELDEN MÜSST IHR EUCH AUF DER ZukunftsRegion Westpfalz Webseite an! \nIm Rahmen des  2. Wirtschaftstreff Westpfalz am 30.03.2023 wird Ihnen das Unternehmen Corning vorgestellt. Der amerikanische Konzern produziert am Standort Kaiserslautern Keramiksubstrate und Hochleistungsfilter für die Abgasnachbehandlung im Automobilbereich. Aufgrund verschärfter Grenzwerte in diesem Bereich wurde das Werk in den vergangenen Jahren stetig erweitert. Angesichts des nahenden Endes der Produktion von Verbrennungsmotoren in Europa und den rasant steigenden Energiekosten ist das Unternehmen allerdings nun zu innovativen Lösungen gezwungen\, um die Produktion am Standort auch langfristig sichern zu können. \nDas gastgebende Unternehmen gibt Einblicke in die Produktionsprozesse und aktuelle unternehmerische Herausforderungen in Zeiten des rasanten Strukturwandels im Automobilbereich. Diese Netzwerkveranstaltung bietet darüber hinaus wie gewohnt die Gelegenheit\, neue Kontakte zu knüpfen und gute Gespräche zu führen.
URL:https://ideenwald-oekosystem.de/event/wirtschaftstreff-westpfalz-corning-gmbh/
LOCATION:Carl-Billand-Str. 1\, 67661 Kaiserslautern\, Carl-Billand-Str. 1\, Kaiserslautern\, 67661\, Deutschland
CATEGORIES:Infoveranstaltung
ATTACH;FMTTYPE=image/jpeg:https://ideenwald-oekosystem.de/wp-content/uploads/2023/02/fruehling-11-figur.jpg
ORGANIZER;CN="ZukunftsRegion Westpfalz e.V.":MAILTO:info@zukunftsregion-westpfalz.de
END:VEVENT
END:VCALENDAR