BEGIN:VCALENDAR
VERSION:2.0
PRODID:-//IDEENWALD - ECPv6.15.20//NONSGML v1.0//EN
CALSCALE:GREGORIAN
METHOD:PUBLISH
X-ORIGINAL-URL:https://ideenwald-oekosystem.de
X-WR-CALDESC:Veranstaltungen für IDEENWALD
REFRESH-INTERVAL;VALUE=DURATION:PT1H
X-Robots-Tag:noindex
X-PUBLISHED-TTL:PT1H
BEGIN:VTIMEZONE
TZID:Europe/Berlin
BEGIN:DAYLIGHT
TZOFFSETFROM:+0100
TZOFFSETTO:+0200
TZNAME:CEST
DTSTART:20220327T010000
END:DAYLIGHT
BEGIN:STANDARD
TZOFFSETFROM:+0200
TZOFFSETTO:+0100
TZNAME:CET
DTSTART:20221030T010000
END:STANDARD
BEGIN:DAYLIGHT
TZOFFSETFROM:+0100
TZOFFSETTO:+0200
TZNAME:CEST
DTSTART:20230326T010000
END:DAYLIGHT
BEGIN:STANDARD
TZOFFSETFROM:+0200
TZOFFSETTO:+0100
TZNAME:CET
DTSTART:20231029T010000
END:STANDARD
BEGIN:DAYLIGHT
TZOFFSETFROM:+0100
TZOFFSETTO:+0200
TZNAME:CEST
DTSTART:20240331T010000
END:DAYLIGHT
BEGIN:STANDARD
TZOFFSETFROM:+0200
TZOFFSETTO:+0100
TZNAME:CET
DTSTART:20241027T010000
END:STANDARD
END:VTIMEZONE
BEGIN:VEVENT
DTSTART;TZID=Europe/Berlin:20230504T143000
DTEND;TZID=Europe/Berlin:20230504T153000
DTSTAMP:20260422T085132
CREATED:20210113T150038Z
LAST-MODIFIED:20230323T131443Z
UID:257553-1683210600-1683214200@ideenwald-oekosystem.de
SUMMARY:DER HIGH-TECH GRÜNDERFONDS IN 60 MINUTEN
DESCRIPTION:!ANMELDEN MÜSST IHR EUCH AUF DER GRÜNDUNGSBÜRO WEBSEITE! \nMeet&Greet mit DEM Venture Capital Investor für Technologien und Geschäftsmodelle. \nAm 4.Mai.2023\, von 14:30-15:30 gibt es ein Meet&Greet mit Rabea Hennigs\, Senior Relation Manager beim HTGF & Klaus Wächter\, Scout des HTGF. \nNutzt die Chance und stellt im direkten Gespräch eure Fragen rund um den Fonds. \nAnmeldung & weitere Infos findet ihr auf der Gründungsbüro Webseite!
URL:https://ideenwald-oekosystem.de/event/meetgreet-infoveranstaltung-htgf-iv/
LOCATION:Online
CATEGORIES:Online-Veranstaltung
ATTACH;FMTTYPE=image/png:https://ideenwald-oekosystem.de/wp-content/uploads/2023/03/sommer-9-figur.png
END:VEVENT
END:VCALENDAR