BEGIN:VCALENDAR
VERSION:2.0
PRODID:-//IDEENWALD - ECPv6.15.20//NONSGML v1.0//EN
CALSCALE:GREGORIAN
METHOD:PUBLISH
X-WR-CALNAME:IDEENWALD
X-ORIGINAL-URL:https://ideenwald-oekosystem.de
X-WR-CALDESC:Veranstaltungen für IDEENWALD
REFRESH-INTERVAL;VALUE=DURATION:PT1H
X-Robots-Tag:noindex
X-PUBLISHED-TTL:PT1H
BEGIN:VTIMEZONE
TZID:Europe/Berlin
BEGIN:DAYLIGHT
TZOFFSETFROM:+0100
TZOFFSETTO:+0200
TZNAME:CEST
DTSTART:20210328T010000
END:DAYLIGHT
BEGIN:STANDARD
TZOFFSETFROM:+0200
TZOFFSETTO:+0100
TZNAME:CET
DTSTART:20211031T010000
END:STANDARD
BEGIN:DAYLIGHT
TZOFFSETFROM:+0100
TZOFFSETTO:+0200
TZNAME:CEST
DTSTART:20220327T010000
END:DAYLIGHT
BEGIN:STANDARD
TZOFFSETFROM:+0200
TZOFFSETTO:+0100
TZNAME:CET
DTSTART:20221030T010000
END:STANDARD
BEGIN:DAYLIGHT
TZOFFSETFROM:+0100
TZOFFSETTO:+0200
TZNAME:CEST
DTSTART:20230326T010000
END:DAYLIGHT
BEGIN:STANDARD
TZOFFSETFROM:+0200
TZOFFSETTO:+0100
TZNAME:CET
DTSTART:20231029T010000
END:STANDARD
END:VTIMEZONE
BEGIN:VEVENT
DTSTART;TZID=Europe/Berlin:20220512T090000
DTEND;TZID=Europe/Berlin:20220512T130000
DTSTAMP:20260425T124246
CREATED:20210120T113037Z
LAST-MODIFIED:20220308T182144Z
UID:13451-1652346000-1652360400@ideenwald-oekosystem.de
SUMMARY:Marketing Workshop: Beispiele und Tipps von Gründern:innen
DESCRIPTION:Um ein Startup erfolgreich und nachhaltig auf die Beine zu stellen\, bedarf es nicht nur einer guten Idee\, diese muss auch als Produkt oder Dienstleistung auf den Markt gebracht werden! In diesem Workshop erstellst Du eine Marketing-Strategie für Dein Startup und du erfährst Details über mögliche Strategien anhand greifbarer Beispiele und Tipps von Gründern:innen! \nDie ersten 6 Teams bekommen ab 13 Uhr jeweils eine 40-minütige Individualberatung und passgenaue Strategie mit Sven Winter. Alle weiteren TeilnehmerInnen\, sind herzlich dazu eingeladen dem ersten allgemeinen Teil des Workshops von 9:00 bis 13:00 beizuwohnen. \nWeitere Informationen und Anmeldung auf der Gründungsbüro-Webseite! \nINFO: Für alle die es nicht zu diesem Termin schaffen\, gibt es am 16.11.2022 einen weiteren Marketing Workshop mit Sven Winter.
URL:https://ideenwald-oekosystem.de/event/marketing-workshop/
LOCATION:Institut für Oberflächen-und Schichtanalytik GmbH\, Trippstadter Straße 120\, Kaiserslautern\, 67663\, Deutschland
CATEGORIES:Workshop
END:VEVENT
END:VCALENDAR