BEGIN:VCALENDAR
VERSION:2.0
PRODID:-//IDEENWALD - ECPv6.15.20//NONSGML v1.0//EN
CALSCALE:GREGORIAN
METHOD:PUBLISH
X-WR-CALNAME:IDEENWALD
X-ORIGINAL-URL:https://ideenwald-oekosystem.de
X-WR-CALDESC:Veranstaltungen für IDEENWALD
REFRESH-INTERVAL;VALUE=DURATION:PT1H
X-Robots-Tag:noindex
X-PUBLISHED-TTL:PT1H
BEGIN:VTIMEZONE
TZID:Europe/Berlin
BEGIN:DAYLIGHT
TZOFFSETFROM:+0100
TZOFFSETTO:+0200
TZNAME:CEST
DTSTART:20220327T010000
END:DAYLIGHT
BEGIN:STANDARD
TZOFFSETFROM:+0200
TZOFFSETTO:+0100
TZNAME:CET
DTSTART:20221030T010000
END:STANDARD
BEGIN:DAYLIGHT
TZOFFSETFROM:+0100
TZOFFSETTO:+0200
TZNAME:CEST
DTSTART:20230326T010000
END:DAYLIGHT
BEGIN:STANDARD
TZOFFSETFROM:+0200
TZOFFSETTO:+0100
TZNAME:CET
DTSTART:20231029T010000
END:STANDARD
BEGIN:DAYLIGHT
TZOFFSETFROM:+0100
TZOFFSETTO:+0200
TZNAME:CEST
DTSTART:20240331T010000
END:DAYLIGHT
BEGIN:STANDARD
TZOFFSETFROM:+0200
TZOFFSETTO:+0100
TZNAME:CET
DTSTART:20241027T010000
END:STANDARD
END:VTIMEZONE
BEGIN:VEVENT
DTSTART;TZID=Europe/Berlin:20230511T090000
DTEND;TZID=Europe/Berlin:20230511T130000
DTSTAMP:20260424T173553
CREATED:20210113T140022Z
LAST-MODIFIED:20230113T151659Z
UID:257345-1683795600-1683810000@ideenwald-oekosystem.de
SUMMARY:MARKETING WORKSHOP
DESCRIPTION:Um ein Startup erfolgreich und nachhaltig auf die Beine zu stellen\, bedarf es nicht nur einer guten Idee\, diese muss auch als Produkt oder Dienstleistung auf den Markt gebracht werden! In diesem Workshop erstellt Ihr eine Marketing-Strategie für Euer Startup und erfahrt alles über die aktuellen Themen aus dem Gründungsmarketing / Marketing. \nDie ersten 6 Teams bekommen ab 13 Uhr jeweils eine 40-minütige Individualberatung und passgenaue Strategie mit Sven Winter. Alle weiteren Teilnehmer:innen\, sind herzlich dazu eingeladen dem ersten allgemeinen Teil des Workshops von 9:00 bis 13:00 beizuwohnen. \nWeitere Informationen und Anmeldung auf der Gründungsbüro-Webseite!
URL:https://ideenwald-oekosystem.de/event/marketing-workshop-3/
LOCATION:Engineering 4.0 Lab Kaiserslautern
CATEGORIES:Workshop
ATTACH;FMTTYPE=image/jpeg:https://ideenwald-oekosystem.de/wp-content/uploads/2021/01/gartenschau-kaiserslautern-anna-wojtas.jpg
END:VEVENT
END:VCALENDAR