BEGIN:VCALENDAR
VERSION:2.0
PRODID:-//IDEENWALD - ECPv6.15.20//NONSGML v1.0//EN
CALSCALE:GREGORIAN
METHOD:PUBLISH
X-ORIGINAL-URL:https://ideenwald-oekosystem.de
X-WR-CALDESC:Veranstaltungen für IDEENWALD
REFRESH-INTERVAL;VALUE=DURATION:PT1H
X-Robots-Tag:noindex
X-PUBLISHED-TTL:PT1H
BEGIN:VTIMEZONE
TZID:Europe/Berlin
BEGIN:DAYLIGHT
TZOFFSETFROM:+0100
TZOFFSETTO:+0200
TZNAME:CEST
DTSTART:20230326T010000
END:DAYLIGHT
BEGIN:STANDARD
TZOFFSETFROM:+0200
TZOFFSETTO:+0100
TZNAME:CET
DTSTART:20231029T010000
END:STANDARD
BEGIN:DAYLIGHT
TZOFFSETFROM:+0100
TZOFFSETTO:+0200
TZNAME:CEST
DTSTART:20240331T010000
END:DAYLIGHT
BEGIN:STANDARD
TZOFFSETFROM:+0200
TZOFFSETTO:+0100
TZNAME:CET
DTSTART:20241027T010000
END:STANDARD
BEGIN:DAYLIGHT
TZOFFSETFROM:+0100
TZOFFSETTO:+0200
TZNAME:CEST
DTSTART:20250330T010000
END:DAYLIGHT
BEGIN:STANDARD
TZOFFSETFROM:+0200
TZOFFSETTO:+0100
TZNAME:CET
DTSTART:20251026T010000
END:STANDARD
END:VTIMEZONE
BEGIN:VEVENT
DTSTART;TZID=Europe/Berlin:20240907T110000
DTEND;TZID=Europe/Berlin:20240907T170000
DTSTAMP:20260423T175749
CREATED:20201216T160011Z
LAST-MODIFIED:20240816T085311Z
UID:260155-1725706800-1725728400@ideenwald-oekosystem.de
SUMMARY:MI(N)Tmachwelt 2024
DESCRIPTION:Die Gartenschau hat dieses Jahr wieder ein tolles Programm zu bieten!\nZum vierten Mal findet die MI(N)Tmachwelt auf dem Gelände statt und bietet für Groß und Klein zahlreiche Stände zum MI(N)Tmachen und Experimentieren\, um atemberaubende Phänomene der MINT-Welt kennenzulernen! Du wirst durch Tricks und Experimente von dieser verzaubert und kannst gleichzeitig die tolle Landschaft der Gartenschau genießen!\nAusserdem gibt es als Programmhighlight die Physikanten mit einer spektakulären Experimentiershow auf der Bühne! Etwas was man sich auf jeden Fall nicht entgehen lassen sollte. \nDie Veranstaltung ist für Gartenschaubesuchende offen zugänglich und braucht deswegen auch keine Anmeldung!\nFür die genaueren Preise\, schau dir die folgende Seite an:\nEintrittspreise – Gartenschau-KL \nWir wünschen dir viel Spaß beim Erforschen!
URL:https://ideenwald-oekosystem.de/event/mintmachwelt-2024/
LOCATION:Gartenschau Kaiserslautern\, Lauterstraße 51\, Kaiserslautern\, Rheinland-Pfalz\, 67659\, Deutschland
CATEGORIES:Workshop
ATTACH;FMTTYPE=image/png:https://ideenwald-oekosystem.de/wp-content/uploads/2023/08/herbst-2-figur.png
ORGANIZER;CN="ZukunftsRegion Westpfalz e.V.":MAILTO:info@zukunftsregion-westpfalz.de
END:VEVENT
BEGIN:VEVENT
DTSTART;TZID=Europe/Berlin:20240923T160000
DTEND;TZID=Europe/Berlin:20240923T190000
DTSTAMP:20260423T175749
CREATED:20201216T010007Z
LAST-MODIFIED:20240816T091951Z
UID:260160-1727107200-1727118000@ideenwald-oekosystem.de
SUMMARY:Wirtschaftsge(h)spräch im Finsterbrunnertal
DESCRIPTION:Am 23.09. startet am Naturfreundehaus Finsterbrunnertal eine kleine Kurzwanderung bei dem sich Unternehmer\, Praxisexperten und Interessierte treffen. Dieses Event soll zum Austausch der Teilnehmenden anregen und bei dem Finden von zukunftsorientierten\, gemeinsamen Lösungsansätzen und Erfolgsbeispielen helfen!\nDer Spaziergang ist dabei ein schöner Tapetenwechsel zu Büroräumen und Meetings. Damit entsteht auf jeden Fall eine entspannte Atmosphäre und man fühlt sich nach etwas Bewegung bestimmt besser! \nDie Anmeldung findet über die Webseite der Westpfalz statt und läuft nur noch bis zum 13.09.:\nAnmeldung – Westpfalz\nDie Teilnahme ist auf 30 Personen begrenzt.
URL:https://ideenwald-oekosystem.de/event/wirtschaftsgehspraech-im-finsterbrunnertal/
LOCATION:Naturfreundehaus Finsterbrunnertal\, Finsterbrunnertal 1\, Schopp\, Rheinland-Pfalz\, 67705\, Deutschland
CATEGORIES:Better World
ATTACH;FMTTYPE=image/jpeg:https://ideenwald-oekosystem.de/wp-content/uploads/2023/08/herbst-3-figur.jpg
ORGANIZER;CN="ZukunftsRegion Westpfalz e.V.":MAILTO:info@zukunftsregion-westpfalz.de
END:VEVENT
END:VCALENDAR