BEGIN:VCALENDAR
VERSION:2.0
PRODID:-//IDEENWALD - ECPv6.15.20//NONSGML v1.0//EN
CALSCALE:GREGORIAN
METHOD:PUBLISH
X-ORIGINAL-URL:https://ideenwald-oekosystem.de
X-WR-CALDESC:Veranstaltungen für IDEENWALD
REFRESH-INTERVAL;VALUE=DURATION:PT1H
X-Robots-Tag:noindex
X-PUBLISHED-TTL:PT1H
BEGIN:VTIMEZONE
TZID:Europe/Berlin
BEGIN:DAYLIGHT
TZOFFSETFROM:+0100
TZOFFSETTO:+0200
TZNAME:CEST
DTSTART:20220327T010000
END:DAYLIGHT
BEGIN:STANDARD
TZOFFSETFROM:+0200
TZOFFSETTO:+0100
TZNAME:CET
DTSTART:20221030T010000
END:STANDARD
BEGIN:DAYLIGHT
TZOFFSETFROM:+0100
TZOFFSETTO:+0200
TZNAME:CEST
DTSTART:20230326T010000
END:DAYLIGHT
BEGIN:STANDARD
TZOFFSETFROM:+0200
TZOFFSETTO:+0100
TZNAME:CET
DTSTART:20231029T010000
END:STANDARD
BEGIN:DAYLIGHT
TZOFFSETFROM:+0100
TZOFFSETTO:+0200
TZNAME:CEST
DTSTART:20240331T010000
END:DAYLIGHT
BEGIN:STANDARD
TZOFFSETFROM:+0200
TZOFFSETTO:+0100
TZNAME:CET
DTSTART:20241027T010000
END:STANDARD
END:VTIMEZONE
BEGIN:VEVENT
DTSTART;TZID=Europe/Berlin:20230630T170000
DTEND;TZID=Europe/Berlin:20230630T210000
DTSTAMP:20260423T180831
CREATED:20210112T080028Z
LAST-MODIFIED:20230504T075327Z
UID:257677-1688144400-1688158800@ideenwald-oekosystem.de
SUMMARY:IDEENWALD-Sommerfest
DESCRIPTION:Es wird Zeit\, dass wir uns alle mal zu einem Grillerchen auf dem IDEENWALD Sommerfest treffen! Das Projekt IDEENWALD ist jetzt fast 3 Jahre alt. Diesen Zeitpunkt nehmen wir zum Anlass uns alle mal ganz gemütlich auf dem Grillplatz des Hochschulsports Kaiserslautern bei Grillgut & Kaltgetränk zu treffen! \nMeldet euch am besten gleich an\, damit wir die Getränkebestellung besser planen können. Grillgut bringt ihr bitte selbst mit\, da ihr auch am besten wisst\, was ihr essen wollt 😉
URL:https://ideenwald-oekosystem.de/event/ideenwald-sommerfest-2/
LOCATION:UNISPORT Grillplatz\, Paul-Ehrlich-Straße 28\, Kaiserslautern\, 67663\, Deutschland
ATTACH;FMTTYPE=image/jpeg:https://ideenwald-oekosystem.de/wp-content/uploads/2023/05/sommer-2-figur.jpg
END:VEVENT
END:VCALENDAR