BEGIN:VCALENDAR
VERSION:2.0
PRODID:-//IDEENWALD - ECPv6.15.20//NONSGML v1.0//EN
CALSCALE:GREGORIAN
METHOD:PUBLISH
X-ORIGINAL-URL:https://ideenwald-oekosystem.de
X-WR-CALDESC:Veranstaltungen für IDEENWALD
REFRESH-INTERVAL;VALUE=DURATION:PT1H
X-Robots-Tag:noindex
X-PUBLISHED-TTL:PT1H
BEGIN:VTIMEZONE
TZID:Europe/Berlin
BEGIN:DAYLIGHT
TZOFFSETFROM:+0100
TZOFFSETTO:+0200
TZNAME:CEST
DTSTART:20220327T010000
END:DAYLIGHT
BEGIN:STANDARD
TZOFFSETFROM:+0200
TZOFFSETTO:+0100
TZNAME:CET
DTSTART:20221030T010000
END:STANDARD
BEGIN:DAYLIGHT
TZOFFSETFROM:+0100
TZOFFSETTO:+0200
TZNAME:CEST
DTSTART:20230326T010000
END:DAYLIGHT
BEGIN:STANDARD
TZOFFSETFROM:+0200
TZOFFSETTO:+0100
TZNAME:CET
DTSTART:20231029T010000
END:STANDARD
BEGIN:DAYLIGHT
TZOFFSETFROM:+0100
TZOFFSETTO:+0200
TZNAME:CEST
DTSTART:20240331T010000
END:DAYLIGHT
BEGIN:STANDARD
TZOFFSETFROM:+0200
TZOFFSETTO:+0100
TZNAME:CET
DTSTART:20241027T010000
END:STANDARD
END:VTIMEZONE
BEGIN:VEVENT
DTSTART;TZID=Europe/Berlin:20230209T180000
DTEND;TZID=Europe/Berlin:20230209T220000
DTSTAMP:20260424T074041
CREATED:20210116T180052Z
LAST-MODIFIED:20230116T163233Z
UID:257369-1675965600-1675980000@ideenwald-oekosystem.de
SUMMARY:Startup Stammtisch
DESCRIPTION:Am 09. Februar 2023 findet um 18.00 Uhr der Startup Stammtisch für alle Startups\, Gründer*innen und Weltverbesserer im bic in Kaiserslautern gemeinsam mit dem Ideenwald\, Startup Gate e.V.\, der Innovationsbühne\, Startup Westpfalz e.V. und dem bic statt. \nDer Stammtisch ist eine Networking-Veranstaltung für Startups und Startup-Interessierte aus der Region. Ziel der Veranstaltung ist es euch zusammenzubringen\, die Möglichkeit zu geben ein eigenes Netzwerk aufzubauen und die verschiedenen Angebote an Startups kennenzulernen. \n!ANMELDEN MÜSST IHR EUCH AUF DER Gipfelsprint Webseite!
URL:https://ideenwald-oekosystem.de/event/startup-stammtisch-2/
LOCATION:Business + Innovation Center\, Trippstadter Str. 110\, Kaiserslautern\, 67663
ATTACH;FMTTYPE=image/png:https://ideenwald-oekosystem.de/wp-content/uploads/2023/01/gartenschau-kaiserslautern-anna-wojtas.png
END:VEVENT
END:VCALENDAR