BEGIN:VCALENDAR
VERSION:2.0
PRODID:-//IDEENWALD - ECPv6.15.20//NONSGML v1.0//EN
CALSCALE:GREGORIAN
METHOD:PUBLISH
X-ORIGINAL-URL:https://ideenwald-oekosystem.de
X-WR-CALDESC:Veranstaltungen für IDEENWALD
REFRESH-INTERVAL;VALUE=DURATION:PT1H
X-Robots-Tag:noindex
X-PUBLISHED-TTL:PT1H
BEGIN:VTIMEZONE
TZID:Europe/Berlin
BEGIN:DAYLIGHT
TZOFFSETFROM:+0100
TZOFFSETTO:+0200
TZNAME:CEST
DTSTART:20220327T010000
END:DAYLIGHT
BEGIN:STANDARD
TZOFFSETFROM:+0200
TZOFFSETTO:+0100
TZNAME:CET
DTSTART:20221030T010000
END:STANDARD
BEGIN:DAYLIGHT
TZOFFSETFROM:+0100
TZOFFSETTO:+0200
TZNAME:CEST
DTSTART:20230326T010000
END:DAYLIGHT
BEGIN:STANDARD
TZOFFSETFROM:+0200
TZOFFSETTO:+0100
TZNAME:CET
DTSTART:20231029T010000
END:STANDARD
BEGIN:DAYLIGHT
TZOFFSETFROM:+0100
TZOFFSETTO:+0200
TZNAME:CEST
DTSTART:20240331T010000
END:DAYLIGHT
BEGIN:STANDARD
TZOFFSETFROM:+0200
TZOFFSETTO:+0100
TZNAME:CET
DTSTART:20241027T010000
END:STANDARD
END:VTIMEZONE
BEGIN:VEVENT
DTSTART;TZID=Europe/Berlin:20231207T180000
DTEND;TZID=Europe/Berlin:20231207T220000
DTSTAMP:20260423T102252
CREATED:20210107T130047Z
LAST-MODIFIED:20231031T085239Z
UID:258359-1701972000-1701986400@ideenwald-oekosystem.de
SUMMARY:Startup Stammtisch 12/23
DESCRIPTION:!ANMELDEN MÜSST IHR EUCH AUF DER Gipfelsprint Webseite! \nAm 07.12.2023 ab 18 Uhr findet gemeinsam mit dem Gründungsbüro\, der Gipfelsprint GmbH und dem bic der “Startup Stammtisch Kaiserslautern“ ein. \nDer Stammtisch ist eine Networking-Veranstaltung für Startups und Startup-Interessierte aus der Region. Ziel der Veranstaltung ist es euch zusammenzubringen\, die Möglichkeit zu geben ein eigenes Netzwerk aufzubauen und die verschiedenen Angebote an Startups kennenzulernen. \nWo? Bei Gipfelsprint\, Zollamtstraße 9\, 67663 Kaiserslautern
URL:https://ideenwald-oekosystem.de/event/startup-stammtisch-12-23/
LOCATION:Gipfelsprint\, Zollamtstr. 9\, Kaiserslautern\, 67663\, Deutschland
CATEGORIES:Online-Veranstaltung
ATTACH;FMTTYPE=image/jpeg:https://ideenwald-oekosystem.de/wp-content/uploads/2023/10/winter-2-figur.jpg
END:VEVENT
END:VCALENDAR