BEGIN:VCALENDAR
VERSION:2.0
PRODID:-//IDEENWALD - ECPv6.15.20//NONSGML v1.0//EN
CALSCALE:GREGORIAN
METHOD:PUBLISH
X-WR-CALNAME:IDEENWALD
X-ORIGINAL-URL:https://ideenwald-oekosystem.de
X-WR-CALDESC:Veranstaltungen für IDEENWALD
REFRESH-INTERVAL;VALUE=DURATION:PT1H
X-Robots-Tag:noindex
X-PUBLISHED-TTL:PT1H
BEGIN:VTIMEZONE
TZID:Europe/Berlin
BEGIN:DAYLIGHT
TZOFFSETFROM:+0100
TZOFFSETTO:+0200
TZNAME:CEST
DTSTART:20210328T010000
END:DAYLIGHT
BEGIN:STANDARD
TZOFFSETFROM:+0200
TZOFFSETTO:+0100
TZNAME:CET
DTSTART:20211031T010000
END:STANDARD
BEGIN:DAYLIGHT
TZOFFSETFROM:+0100
TZOFFSETTO:+0200
TZNAME:CEST
DTSTART:20220327T010000
END:DAYLIGHT
BEGIN:STANDARD
TZOFFSETFROM:+0200
TZOFFSETTO:+0100
TZNAME:CET
DTSTART:20221030T010000
END:STANDARD
BEGIN:DAYLIGHT
TZOFFSETFROM:+0100
TZOFFSETTO:+0200
TZNAME:CEST
DTSTART:20230326T010000
END:DAYLIGHT
BEGIN:STANDARD
TZOFFSETFROM:+0200
TZOFFSETTO:+0100
TZNAME:CET
DTSTART:20231029T010000
END:STANDARD
END:VTIMEZONE
BEGIN:VEVENT
DTSTART;VALUE=DATE:20220914
DTEND;VALUE=DATE:20220915
DTSTAMP:20260423T072753
CREATED:20210119T215024Z
LAST-MODIFIED:20220802T203908Z
UID:256136-1663113600-1663199999@ideenwald-oekosystem.de
SUMMARY:Startup BBQ
DESCRIPTION:Startup BBQ – sich mit anderen Gründungsinteressierten austauschen\, Kontakte knüpfen und von erfahrenen Gründer*innen lernen – bei lecker Gegrilltem und kühlen Getränken. \nHier gibt es weitere Informationen und meldet euch am besten gleich an 😉
URL:https://ideenwald-oekosystem.de/event/gruendergrillen-2022/
LOCATION:Villa Denis\, Diemersteiner Tal\, Frankenstein\, Rheinland-Pfalz\, Deutschland
ORGANIZER;CN="Gr%C3%BCndungsb%C3%BCro TU&HS Kaiserslautern":MAILTO:info@gruendungsbuero.info
END:VEVENT
END:VCALENDAR