BEGIN:VCALENDAR
VERSION:2.0
PRODID:-//IDEENWALD - ECPv6.15.20//NONSGML v1.0//EN
CALSCALE:GREGORIAN
METHOD:PUBLISH
X-WR-CALNAME:IDEENWALD
X-ORIGINAL-URL:https://ideenwald-oekosystem.de
X-WR-CALDESC:Veranstaltungen für IDEENWALD
REFRESH-INTERVAL;VALUE=DURATION:PT1H
X-Robots-Tag:noindex
X-PUBLISHED-TTL:PT1H
BEGIN:VTIMEZONE
TZID:Europe/Berlin
BEGIN:DAYLIGHT
TZOFFSETFROM:+0100
TZOFFSETTO:+0200
TZNAME:CEST
DTSTART:20200329T010000
END:DAYLIGHT
BEGIN:STANDARD
TZOFFSETFROM:+0200
TZOFFSETTO:+0100
TZNAME:CET
DTSTART:20201025T010000
END:STANDARD
BEGIN:DAYLIGHT
TZOFFSETFROM:+0100
TZOFFSETTO:+0200
TZNAME:CEST
DTSTART:20210328T010000
END:DAYLIGHT
BEGIN:STANDARD
TZOFFSETFROM:+0200
TZOFFSETTO:+0100
TZNAME:CET
DTSTART:20211031T010000
END:STANDARD
BEGIN:DAYLIGHT
TZOFFSETFROM:+0100
TZOFFSETTO:+0200
TZNAME:CEST
DTSTART:20220327T010000
END:DAYLIGHT
BEGIN:STANDARD
TZOFFSETFROM:+0200
TZOFFSETTO:+0100
TZNAME:CET
DTSTART:20221030T010000
END:STANDARD
END:VTIMEZONE
BEGIN:VEVENT
DTSTART;TZID=Europe/Berlin:20210608T170000
DTEND;TZID=Europe/Berlin:20210608T200000
DTSTAMP:20260426T012526
CREATED:20210228T210012Z
LAST-MODIFIED:20210511T054337Z
UID:4718-1623171600-1623182400@ideenwald-oekosystem.de
SUMMARY:"Turn into an investor for one night" - Pitching Night
DESCRIPTION:The GründerWerkstatt of Worms University presents the 7th GründerDienstag in the summer semester 2021 \nThe GründerWerkstatt cordially invite you to PITCHING NIGHT. This event is very special\, because it is also the final of the entrepreneurship courses of the Startup Professor Michael Graef. \nStudents‘ Start-Ups with their business plans from the Entrepreneurship courses will meet the „Lions“ from the „Lions Cave“.\nThe teams will fight for your money. Each team will have up to 7 Minutes to convince you of their business idea and concept. They will either deserve acknowledgement and investment – or many critical questions! \nBecome a „Lion“ for one night and let out the investor in you!
URL:https://ideenwald-oekosystem.de/event/turn-into-an-investor-for-one-night-pitching-night/
CATEGORIES:Online-Veranstaltung
END:VEVENT
BEGIN:VEVENT
DTSTART;TZID=Europe/Berlin:20210609T110000
DTEND;TZID=Europe/Berlin:20210609T123000
DTSTAMP:20260426T012526
CREATED:20210228T170032Z
LAST-MODIFIED:20210611T110841Z
UID:5028-1623236400-1623241800@ideenwald-oekosystem.de
SUMMARY:Moneytalk – Wie finanziere ich mein Startup?
DESCRIPTION:Du hast eine Idee oder sogar schon ein Team und bist im Aufbau Deiner Selbstständigkeit? Dann wird dich schon seit Längerem das Thema Finanzierung umtreiben. Reicht Dein Erspartes für die Gründung oder kommst du mit Bootstrapping über die Runden? Vielleicht schaffst du es in Deinem aktuellen Job weiterzuarbeiten und parallel ein Startup aufzubauen. Aber wie geht es mit der Finanzierung weiter\, wenn die genannten Möglichkeiten keine Option mehr sind? \nGood News: es gibt Möglichkeiten und das Risiko ist gering\, sodass deine Ängste sich in Grenzen halten dürfen. Wie eine externe Finanzierung funktioniert und warum das Ganze durchaus für jeden machbar ist erklären dir Brigitte Herrmann und Klaus Wächter von der Startup Schmiede Rheinland-Pfalz. \nhttps://uni-kl-de.zoom.us/j/91444323295?pwd=QTRFNWlGVXBDWWplZ3ZLMnJKeTV2UT09\nMeeting-ID: 914 4432 3295\nKenncode: pk5iN!1N \nWeitere Informationen und die Anmeldung Hier klicken!
URL:https://ideenwald-oekosystem.de/event/moneytalk-wie-finanziere-ich-mein-startup/
CATEGORIES:Online-Veranstaltung
ORGANIZER;CN="Gr%C3%BCndungsb%C3%BCro TU&HS Kaiserslautern":MAILTO:info@gruendungsbuero.info
END:VEVENT
BEGIN:VEVENT
DTSTART;TZID=Europe/Berlin:20210610T173000
DTEND;TZID=Europe/Berlin:20210610T193000
DTSTAMP:20260426T012526
CREATED:20210228T130002Z
LAST-MODIFIED:20210511T054310Z
UID:4681-1623346200-1623353400@ideenwald-oekosystem.de
SUMMARY:Imnu stellt sich vor
DESCRIPTION:Imnu ist ein System um die Kontaktdatenerfassung von Kundinnen und Kunden im Rahmen der Maßnahmen gegen das Corona-Virus SARS-CoV-2 zu vereinfachen. Anstatt bei jedem Besuch ihre Daten neu auf einen Zettel zu schreiben\, funktioniert Imnu elektronisch. Auf der einen Seite macht das System Ein- und Auschecken bequemer für die Besucher\, auf der anderen ersetzt es für die Gastronomie lästige Corona-Besucherlisten und automatisiert das rechtzeitige Löschen und Sortieren. Das Auslesen der Daten funktioniert im Falle einer Anfrage vom Gesundheitsamt einfach per Knopfdruck. \nTeil der Veranstaltungsreihe „Innovationsraketen #nachhaltiggründen“
URL:https://ideenwald-oekosystem.de/event/imnu-stellt-sich-vor/
CATEGORIES:Online-Veranstaltung
ORGANIZER;CN="Gr%C3%BCndungs- und Innovationsregion S%C3%BCdwest+":MAILTO:l.lill@umwelt-campus.de
END:VEVENT
BEGIN:VEVENT
DTSTART;TZID=Europe/Berlin:20210617T173000
DTEND;TZID=Europe/Berlin:20210617T193000
DTSTAMP:20260426T012526
CREATED:20210228T100049Z
LAST-MODIFIED:20210614T121106Z
UID:4688-1623951000-1623958200@ideenwald-oekosystem.de
SUMMARY:Nachhaltigkeit als Dienstleistung
DESCRIPTION:Simone Blank gibt Einblicke in ihre Gründung: Von der Idee die Welt zu verändern zur realistischen Umsetzung als Solo-Preneurin. Ein persönlicher Weg mit Hindernissen\, Erfolgen und sich selbst treu zu bleiben. Generationen-Verantwortung richtig gestalten: Wissenslücken schließen\, Zusammenhänge verstehen und richtig kommunizieren. Nachhaltigkeit (be-)trifft jeden einzelnen Bereich in einer Organisation. Darum ist ein zukunftsfähiges Handeln auf Augenhöhe so wichtig. \nTeil der Veranstaltungsreihe „Innovationsraketen #nachhaltiggründen“
URL:https://ideenwald-oekosystem.de/event/nachhaltigkeit-als-dienstleistung/
CATEGORIES:Online-Veranstaltung
ORGANIZER;CN="Gr%C3%BCndungs- und Innovationsregion S%C3%BCdwest+":MAILTO:l.lill@umwelt-campus.de
END:VEVENT
BEGIN:VEVENT
DTSTART;TZID=Europe/Berlin:20210618T163000
DTEND;TZID=Europe/Berlin:20210618T170000
DTSTAMP:20260426T012526
CREATED:20210228T090059Z
LAST-MODIFIED:20210511T054256Z
UID:4095-1624033800-1624035600@ideenwald-oekosystem.de
SUMMARY:Pitchbreak - Ausgabe 25
DESCRIPTION:#pitchbreak ist die ideale Plattform\, um der Welt in einer Kaffeepause deine Ideen zu präsentieren. \nZusammen mit unserem Partner\, dem Gründer Campus Saar\, bringen wir dich mit Investoren zusammen\, die in der Phase\, in der du dich befindest\, investieren. Nutze die Chance und überzeuge mit deiner Idee\, deinem Projekt\, deinem Startup. #pitchbreak findet regelmäßig alle zwei Wochen statt.
URL:https://ideenwald-oekosystem.de/event/pitchbreak-ausgabe-25/
CATEGORIES:Online-Veranstaltung
ORGANIZER;CN="Gr%C3%BCndercampus Saar":MAILTO:unternehmensgruendungen@uni-saarland.de
END:VEVENT
BEGIN:VEVENT
DTSTART;TZID=Europe/Berlin:20210624T150000
DTEND;TZID=Europe/Berlin:20210624T163000
DTSTAMP:20260426T012526
CREATED:20210227T180022Z
LAST-MODIFIED:20210614T120355Z
UID:5299-1624546800-1624552200@ideenwald-oekosystem.de
SUMMARY:From Science to Startup
DESCRIPTION:Wir zeigen durch Rolemodels aus der Praxis verknüpft mit dem KnowHow der Wissenschaft\, welche Möglichkeiten sich aus Deinem Studium oder Deiner Promotion entwickeln können. Denn aus jeder Fachrichtung kannst Du das Potential für die Verwirklichung Deiner Ideen schöpfen. \nAuf Seiten der Forschung wird Dir Dr. Michael Lakatos die Forschungsgebiete und Anwendungen in der Bioökonomie aufzeigen. Lakatos ist Forscher an der Hochschule Kaiserslautern und Koordinator mehrere DFG / BMBF / EU Forschungsprojekte im Kontext der Bioökonomie und läutet mit einer neuen Bioverfahrenstechnik einen Paradigmenwechsel in der Algenbiotechnologie ein.  Aus der Praxis wird Daniel Anthes\, CEO des Startups Knärzje\, übernehmen und seine Geschichte erzählen. Anthes braut mit seinem Team Bier aus alten Brot und kämpft so durch bioökonomische Prinzipien gegen die Lebensmittelverschwendung an. \nWeitere Informationen und die Anmeldung Hier klicken!
URL:https://ideenwald-oekosystem.de/event/from-science-to-startup/
CATEGORIES:Online-Veranstaltung
ORGANIZER;CN="Gr%C3%BCndungsb%C3%BCro TU&HS Kaiserslautern":MAILTO:info@gruendungsbuero.info
END:VEVENT
BEGIN:VEVENT
DTSTART;TZID=Europe/Berlin:20210624T173000
DTEND;TZID=Europe/Berlin:20210624T193000
DTSTAMP:20260426T012526
CREATED:20210227T170047Z
LAST-MODIFIED:20210511T054247Z
UID:4693-1624555800-1624563000@ideenwald-oekosystem.de
SUMMARY:Wie man eine Gründungsphase mit 100 Affen im Schlepptau meistert
DESCRIPTION:Im Vortrag schildert die 24-jährige Tierschützerin und Primatologin Michelle Schreiber ihren Weg zur eigenen Tierschutzorganisation und erzählt\, warum unkonventionelle Wege\, Stolpersteine und eine Portion Mut au \nTeil der Veranstaltungsreihe „Innovationsraketen #nachhaltiggründen“
URL:https://ideenwald-oekosystem.de/event/wie-man-eine-gruendungsphase-mit-100-affen-im-schlepptau-meistert/
CATEGORIES:Online-Veranstaltung
ORGANIZER;CN="Gr%C3%BCndungs- und Innovationsregion S%C3%BCdwest+":MAILTO:l.lill@umwelt-campus.de
END:VEVENT
END:VCALENDAR