BEGIN:VCALENDAR
VERSION:2.0
PRODID:-//IDEENWALD - ECPv6.15.20//NONSGML v1.0//EN
CALSCALE:GREGORIAN
METHOD:PUBLISH
X-WR-CALNAME:IDEENWALD
X-ORIGINAL-URL:https://ideenwald-oekosystem.de
X-WR-CALDESC:Veranstaltungen für IDEENWALD
REFRESH-INTERVAL;VALUE=DURATION:PT1H
X-Robots-Tag:noindex
X-PUBLISHED-TTL:PT1H
BEGIN:VTIMEZONE
TZID:Europe/Berlin
BEGIN:DAYLIGHT
TZOFFSETFROM:+0100
TZOFFSETTO:+0200
TZNAME:CEST
DTSTART:20200329T010000
END:DAYLIGHT
BEGIN:STANDARD
TZOFFSETFROM:+0200
TZOFFSETTO:+0100
TZNAME:CET
DTSTART:20201025T010000
END:STANDARD
BEGIN:DAYLIGHT
TZOFFSETFROM:+0100
TZOFFSETTO:+0200
TZNAME:CEST
DTSTART:20210328T010000
END:DAYLIGHT
BEGIN:STANDARD
TZOFFSETFROM:+0200
TZOFFSETTO:+0100
TZNAME:CET
DTSTART:20211031T010000
END:STANDARD
BEGIN:DAYLIGHT
TZOFFSETFROM:+0100
TZOFFSETTO:+0200
TZNAME:CEST
DTSTART:20220327T010000
END:DAYLIGHT
BEGIN:STANDARD
TZOFFSETFROM:+0200
TZOFFSETTO:+0100
TZNAME:CET
DTSTART:20221030T010000
END:STANDARD
END:VTIMEZONE
BEGIN:VEVENT
DTSTART;TZID=Europe/Berlin:20211207T173000
DTEND;TZID=Europe/Berlin:20211207T190000
DTSTAMP:20260425T142440
CREATED:20210224T034931Z
LAST-MODIFIED:20220107T135339Z
UID:11573-1638898200-1638903600@ideenwald-oekosystem.de
SUMMARY:MindShift mit Katharina Mayer von Kuchentratsch
DESCRIPTION:Omas Kuchen schmeckt am besten! \nDeshalb backen in der sozialen Backstube des Startups Kuchentratsch Omas und Opas mit einer großen Portion Liebe und Erfahrung nach ihren originalen Familienrezepten. So entsteht der unvergleichliche Kuchengeschmack\, den du aus deiner Kindheit kennst. Außerdem geben Katharina und ihr Team\, den Senior:innen eine Aufgabe\, eine gemeinsames Ziel und einen Treffpunkt\, um sich auszutauschen. \nKuchentratsch ist ein Vorzeigemodell von Social Entrepreneurship. Doch wie kam es dazu und wie kommt man auf so eine sinngebende Idee? Das und noch vieles mehr erfahrt ihr am 07.12. von Katharina Mayer\, der Gründerin von Kuchentratsch. \nWeitere Informationen und die Anmeldung: Hier klicken!
URL:https://ideenwald-oekosystem.de/event/das-startup-aus-muenchen-in-dem-oma-und-opa-backen/
LOCATION:Online
CATEGORIES:Online-Veranstaltung
END:VEVENT
END:VCALENDAR