BEGIN:VCALENDAR
VERSION:2.0
PRODID:-//IDEENWALD - ECPv6.15.20//NONSGML v1.0//EN
CALSCALE:GREGORIAN
METHOD:PUBLISH
X-ORIGINAL-URL:https://ideenwald-oekosystem.de
X-WR-CALDESC:Veranstaltungen für IDEENWALD
REFRESH-INTERVAL;VALUE=DURATION:PT1H
X-Robots-Tag:noindex
X-PUBLISHED-TTL:PT1H
BEGIN:VTIMEZONE
TZID:Europe/Berlin
BEGIN:DAYLIGHT
TZOFFSETFROM:+0100
TZOFFSETTO:+0200
TZNAME:CEST
DTSTART:20200329T010000
END:DAYLIGHT
BEGIN:STANDARD
TZOFFSETFROM:+0200
TZOFFSETTO:+0100
TZNAME:CET
DTSTART:20201025T010000
END:STANDARD
BEGIN:DAYLIGHT
TZOFFSETFROM:+0100
TZOFFSETTO:+0200
TZNAME:CEST
DTSTART:20210328T010000
END:DAYLIGHT
BEGIN:STANDARD
TZOFFSETFROM:+0200
TZOFFSETTO:+0100
TZNAME:CET
DTSTART:20211031T010000
END:STANDARD
BEGIN:DAYLIGHT
TZOFFSETFROM:+0100
TZOFFSETTO:+0200
TZNAME:CEST
DTSTART:20220327T010000
END:DAYLIGHT
BEGIN:STANDARD
TZOFFSETFROM:+0200
TZOFFSETTO:+0100
TZNAME:CET
DTSTART:20221030T010000
END:STANDARD
END:VTIMEZONE
BEGIN:VEVENT
DTSTART;TZID=Europe/Berlin:20210414T160000
DTEND;TZID=Europe/Berlin:20210414T173000
DTSTAMP:20260424T105633
CREATED:20210309T161448Z
LAST-MODIFIED:20210408T122452Z
UID:3821-1618416000-1618421400@ideenwald-oekosystem.de
SUMMARY:Gründung und Innovation: Startup Stories in Kaiserslautern
DESCRIPTION:Erfolgreiche Gründer präsentieren ihre Geschäftsideen \nIhr fragt euch\, welche innovativen Startups hinter den Glasfassaden des Business + Innovation Centers in Kaiserslautern arbeiten? Welche Unterstützung sie dort bekommen? Und wie die Zusammenarbeit mit dem BIC funktioniert? \nIn diesem Online-Event präsentieren die Startups der BIC GmbH ihre Geschäftsideen. Ein absolutes Muss für alle\, die sich für Gründung und Unternehmertum interessieren und den Sprung ins eigene Business wagen wollen! Die Startup Stories sind eine Kooperation des BIC und der SIAK (Science and Innovation Alliance Kaiserslautern) und verfolgen das Ziel der Vernetzung und der Sensibilisierung für das Thema Gründungsinfrastruktur in Kaiserslautern. \nWeitere Informationen und die Anmeldung Hier Klicken!
URL:https://ideenwald-oekosystem.de/event/startup-stories-in-kaiserslautern/
LOCATION:BIC Kaiserslautern\, Tripstadter Str. 110\, Kaiserslautern\, 67663\, Deutschland
CATEGORIES:Online-Veranstaltung
ORGANIZER;CN="Science and Innovation Alliance Kaiserslautern":MAILTO:info@science-alliance.de
END:VEVENT
BEGIN:VEVENT
DTSTART;TZID=Europe/Berlin:20210422T170000
DTEND;TZID=Europe/Berlin:20210422T190000
DTSTAMP:20260424T105633
CREATED:20210309T161243Z
LAST-MODIFIED:20210511T054431Z
UID:3881-1619110800-1619118000@ideenwald-oekosystem.de
SUMMARY:Online-Seminar zu Mikrokrediten vom Wirtschaftsministerium
DESCRIPTION:Mikro statt Makro – Wie finanziere ich meine Geschäftsidee? \nGerade Darlehen unter 10.000 Euro sind häufig nicht so leicht zu bekommen. Eine Existenzgründung oder die Finanzierung des Geschäftsvorhabens muss aber nicht an fehlendem Kapital scheitern. Mikrokredite über den Mikrokreditfonds Deutschland können Finanzierungslücken schließen. In dem Online-Seminar werden die Rahmenbedingungen und Konditionen vorgestellt. Karin Silvestri von MONEX Mikrofinanzierung Baden-Württemberg e.V. führt durch die Veranstaltung und beantwortet eure Fragen.
URL:https://ideenwald-oekosystem.de/event/3881/
CATEGORIES:Online-Veranstaltung
ORGANIZER;CN="Ministerium f%C3%BCr Wirtschaft%2C Verkehr%2C Landwirtschaft und Weinbau":MAILTO:marie-luise.weydmann.kuehn@mwvlw.rlp.de
END:VEVENT
BEGIN:VEVENT
DTSTART;TZID=Europe/Berlin:20210422T170000
DTEND;TZID=Europe/Berlin:20210422T190000
DTSTAMP:20260424T105633
CREATED:20210309T161254Z
LAST-MODIFIED:20210331T143334Z
UID:3813-1619110800-1619118000@ideenwald-oekosystem.de
SUMMARY:Green Alley Award 2021 Preisverleihung und Präsentation der Gewinner
DESCRIPTION:Start-ups mit ihren frischen Ideen und neuen Sichtweisen zeigen sie\, dass take\, make\, dispose nicht der einzige Weg ist. \nFreut euch auf die Vorstellung der sechs Entrepreneure\, die die Jury des Green Alley Awards und die Öffentlichkeit mit ihren Lösungen überzeugt haben. \nAnmeldung und weitere Infos: Hier klicken!
URL:https://ideenwald-oekosystem.de/event/preisverleihung-beim-green-alley-award/
LOCATION:Online
CATEGORIES:Online-Veranstaltung
END:VEVENT
BEGIN:VEVENT
DTSTART;TZID=Europe/Berlin:20210427T130000
DTEND;TZID=Europe/Berlin:20210428T170000
DTSTAMP:20260424T105633
CREATED:20210309T161119Z
LAST-MODIFIED:20210331T142554Z
UID:3674-1619528400-1619629200@ideenwald-oekosystem.de
SUMMARY:Digitaler Design Thinking Workshop mit Ideenwald & Gipfelsprint
DESCRIPTION:Lerne eigene Ideen zu entwickeln und umsetzen. \nAm 27. & 28. April lernst du in einem gemeinsamen Design Thinking Workshop vom Projekt IDEENWALD und dem Lauterer Accelerator Gipfelsprint\, wie du Ideen generierst und sie durch Prototyping umsetzt. Um deine Kreativität spezifisch zu lenken wird es in dem Workshop um die Themen „Smart Village“ und „Green Village“ gehen. \nAnmeldung und weitere Infos: Hier klicken!
URL:https://ideenwald-oekosystem.de/event/digitaler-design-thinking-workshop-mit-ideenwald-gipfelsprint/
LOCATION:Gipfelsprint\, Zollamtstr. 9\, Kaiserslautern\, 67663\, Deutschland
CATEGORIES:Online-Veranstaltung
ORGANIZER;CN="Gr%C3%BCndungsb%C3%BCro TU&HS Kaiserslautern":MAILTO:info@gruendungsbuero.info
END:VEVENT
BEGIN:VEVENT
DTSTART;TZID=Europe/Berlin:20210428T170000
DTEND;TZID=Europe/Berlin:20210428T190000
DTSTAMP:20260424T105633
CREATED:20210307T123231Z
LAST-MODIFIED:20210511T054421Z
UID:3945-1619629200-1619636400@ideenwald-oekosystem.de
SUMMARY:Let´s talk about her money
DESCRIPTION:Die Webinarreihe „Let’s talk about her money“ ist eine Kooperation der Stadt Mainz\, der Hochschule Mainz und E.U.L.E. e.V.\nDie Teilnehmerinnen werden über Möglichkeiten des Vermögensaufbaus\, verschiedene Assetklassen mit ihren Vor- und Nachteilen sowie existenzgefährdende Risiken informiert und sensibilisiert. Dabei wird die besondere Situation von Gründerinnen berücksichtigt. Als Referentin ist Claudia Rankers\, Inhaberin und Geschäftsführerin des Rankers Family Office zu Gast.
URL:https://ideenwald-oekosystem.de/event/lets-talk-about-her-money/
CATEGORIES:Online-Veranstaltung
ORGANIZER;CN="Gr%C3%BCndungsb%C3%BCro Mainz":MAILTO:lisa.bartolucci@hs-mainz.de
END:VEVENT
END:VCALENDAR