BEGIN:VCALENDAR
VERSION:2.0
PRODID:-//IDEENWALD - ECPv6.15.20//NONSGML v1.0//EN
CALSCALE:GREGORIAN
METHOD:PUBLISH
X-WR-CALNAME:IDEENWALD
X-ORIGINAL-URL:https://ideenwald-oekosystem.de
X-WR-CALDESC:Veranstaltungen für IDEENWALD
REFRESH-INTERVAL;VALUE=DURATION:PT1H
X-Robots-Tag:noindex
X-PUBLISHED-TTL:PT1H
BEGIN:VTIMEZONE
TZID:Europe/Berlin
BEGIN:DAYLIGHT
TZOFFSETFROM:+0100
TZOFFSETTO:+0200
TZNAME:CEST
DTSTART:20200329T010000
END:DAYLIGHT
BEGIN:STANDARD
TZOFFSETFROM:+0200
TZOFFSETTO:+0100
TZNAME:CET
DTSTART:20201025T010000
END:STANDARD
BEGIN:DAYLIGHT
TZOFFSETFROM:+0100
TZOFFSETTO:+0200
TZNAME:CEST
DTSTART:20210328T010000
END:DAYLIGHT
BEGIN:STANDARD
TZOFFSETFROM:+0200
TZOFFSETTO:+0100
TZNAME:CET
DTSTART:20211031T010000
END:STANDARD
BEGIN:DAYLIGHT
TZOFFSETFROM:+0100
TZOFFSETTO:+0200
TZNAME:CEST
DTSTART:20220327T010000
END:DAYLIGHT
BEGIN:STANDARD
TZOFFSETFROM:+0200
TZOFFSETTO:+0100
TZNAME:CET
DTSTART:20221030T010000
END:STANDARD
END:VTIMEZONE
BEGIN:VEVENT
DTSTART;TZID=Europe/Berlin:20210701T190000
DTEND;TZID=Europe/Berlin:20210701T210000
DTSTAMP:20260424T063759
CREATED:20210227T110057Z
LAST-MODIFIED:20210706T114347Z
UID:6088-1625166000-1625173200@ideenwald-oekosystem.de
SUMMARY:Ideenparty Gründerinnen Stammtisch Eifel
DESCRIPTION:Der Gründerinnen Stammtisch Eifel in Bitburg wurde 2018 ins Leben gerufen. Jeden 1. Donnerstag im Monat treffen sich weibliche Unternehmerinnen aus der Region\, um eine Plattform zum Vernetzen gezielt für Frauen anzubieten. Dabei sind alle Frauen willkommen\, die sich mit dem Gedanken beschäftigen sich selbstständig zu machen oder bereits in der Gründungsphase sind.\n\nIhr Ziel ist es ein freundschaftliches Netzwerk aufzubauen und es für den beruflichen Aufstieg zu nutzen. Am 01. Juli um 19:00 Uhr findet der Gründerinnen Stammtisch als Präsenzveranstaltung statt. Als Referentin ist Myriam Berres von der Kanzlei Berres zu Gast.\n\nWeitere Informationen und die Anmeldung: Hier klicken!
URL:https://ideenwald-oekosystem.de/event/ideenparty-gruenderinnen-stammtisch-eifel/
LOCATION:Gründerinnen Eifel\, Bahnhofstr. 11\, Auw a.d.Kyll\, 54664\, Deutschland
END:VEVENT
BEGIN:VEVENT
DTSTART;TZID=Europe/Berlin:20210712T190000
DTEND;TZID=Europe/Berlin:20210712T203000
DTSTAMP:20260424T063759
CREATED:20210225T081547Z
LAST-MODIFIED:20210707T125659Z
UID:6267-1626116400-1626121800@ideenwald-oekosystem.de
SUMMARY:Was Deine Kunden wirklich wollen: Champions Lounge mit Jane Schek
DESCRIPTION:Willst du wissen\, was deine Kunden wirklich wollen? Das musst du als Gründer:in tun\, um deine Kunden zu verstehen. Aber wie geht das? Wie kann ich als Startup den weit verbreiteten Fehler vermeiden\, ein Problem zu lösen\, das in der wirklichen Welt de facto nirgends existiert? \nIn diesem Workshop teilt Jane Schek ein klein wenig Theorie und eine große Portion praktischer Tipps und Tools mit dir. Egal\, welche Kunden du bedienst und egal\, ob du ein Produkt\, eine Dienstleistung oder etwas dazwischen anbieten willst\, mit gut fundierten Kenntnissen über die Menschen\, die dein Angebot kaufen und nutzen sollen\, habt ihr es leichter! \nWeitere Informationen und die Anmeldung: Hier klicken!
URL:https://ideenwald-oekosystem.de/event/was-deine-kunden-wirklich-wollen-champions-lounge-mit-jane-schek/
CATEGORIES:Online-Veranstaltung,Workshop
ORGANIZER;CN="Startup Gate e.V.":MAILTO:florian.domeier@startup-gate.de
END:VEVENT
END:VCALENDAR