BEGIN:VCALENDAR
VERSION:2.0
PRODID:-//IDEENWALD - ECPv6.15.20//NONSGML v1.0//EN
CALSCALE:GREGORIAN
METHOD:PUBLISH
X-WR-CALNAME:IDEENWALD
X-ORIGINAL-URL:https://ideenwald-oekosystem.de
X-WR-CALDESC:Veranstaltungen für IDEENWALD
REFRESH-INTERVAL;VALUE=DURATION:PT1H
X-Robots-Tag:noindex
X-PUBLISHED-TTL:PT1H
BEGIN:VTIMEZONE
TZID:Europe/Berlin
BEGIN:DAYLIGHT
TZOFFSETFROM:+0100
TZOFFSETTO:+0200
TZNAME:CEST
DTSTART:20200329T010000
END:DAYLIGHT
BEGIN:STANDARD
TZOFFSETFROM:+0200
TZOFFSETTO:+0100
TZNAME:CET
DTSTART:20201025T010000
END:STANDARD
BEGIN:DAYLIGHT
TZOFFSETFROM:+0100
TZOFFSETTO:+0200
TZNAME:CEST
DTSTART:20210328T010000
END:DAYLIGHT
BEGIN:STANDARD
TZOFFSETFROM:+0200
TZOFFSETTO:+0100
TZNAME:CET
DTSTART:20211031T010000
END:STANDARD
BEGIN:DAYLIGHT
TZOFFSETFROM:+0100
TZOFFSETTO:+0200
TZNAME:CEST
DTSTART:20220327T010000
END:DAYLIGHT
BEGIN:STANDARD
TZOFFSETFROM:+0200
TZOFFSETTO:+0100
TZNAME:CET
DTSTART:20221030T010000
END:STANDARD
END:VTIMEZONE
BEGIN:VEVENT
DTSTART;TZID=Europe/Berlin:20210903T080000
DTEND;TZID=Europe/Berlin:20210904T170000
DTSTAMP:20260424T035047
CREATED:20210225T063028Z
LAST-MODIFIED:20210830T104751Z
UID:9061-1630656000-1630774800@ideenwald-oekosystem.de
SUMMARY:MI(N)Tmachwelt - Experimentiertage auf der Gartenschau
DESCRIPTION:Nichts ist so abwechslungsreich und faszinierend wie die Welt von Mathematik\, Informatik\, Naturwissenschaft und Technik (MINT). Mit einfachen Tricks und Experimenten lassen sich atemberaubende Phänomene hautnah erleben. Die erste MINT-Messe in der Westpfalz will dies eindrucksvoll belegen. Tauche ein in die MI(N)Tmachwelt auf der Gartenschau und lass Dich begeistern! Es erwartet Dich eine Mischung aus spannenden Vorträgen\, interaktiven Workshops und vielfältigen MI(N)Tmachaktionen an zwei abwechslungsreichen Experimentiertagen. \nAm Samstag um 16 Uhr findet außerdem unser Lego Serious Play Workshop mit Johanna Rothmann statt. Die Jugendlichen erhalten interessante Einblicke in die Erstellung von eigenen Business Modellen. Nach einer kurzen Einführung über den Aufbau von Geschäftsmodellen\, erhalten die Teilnehmenden die Möglichkeit ihre eigenen Ideen mit Hilfe unzähliger Legobausteine zu entwickeln und zu visualisieren. Der Workshop richtet sich an Jugendliche zwischen 12 und 18 Jahren. \nViel Spaß beim MI(N)Tmachen und Entdecken!
URL:https://ideenwald-oekosystem.de/event/mintmachwelt-experimentiertage-auf-der-gartenschau/
LOCATION:Kompetenzzentrum Gartenschau\, Lauterstraße 51\, Kaiserslautern\, Rheinland-Pfalz\, 67659\, Deutschland
CATEGORIES:Infoveranstaltung
ORGANIZER;CN="ZukunftsRegion Westpfalz e.V.":MAILTO:info@zukunftsregion-westpfalz.de
END:VEVENT
BEGIN:VEVENT
DTSTART;TZID=Europe/Berlin:20210906T190000
DTEND;TZID=Europe/Berlin:20210906T203000
DTSTAMP:20260424T035047
CREATED:20210225T060039Z
LAST-MODIFIED:20210827T054941Z
UID:8946-1630954800-1630960200@ideenwald-oekosystem.de
SUMMARY:Startup Gate Champions Lounge mit Cornelia Mast
DESCRIPTION:Die Welt wartet auf deine Ideen! Wie du „alte Manager“ von neuen Ideen überzeugst! \n„Wer immer tut\, was er schon kann\, bleibt immer das\, was er schon ist.“ Dieses Statement von Henry Ford gilt auch für Unternehmen und macht deutlich\, warum Offenheit für Innovation so wichtig ist. Aber wie kann ich als junger Student meine Kollegen und Vorgesetzten für meine Ideen begeistern? \nUm dieser Frage auf den Grund zu gehen\, ist am 06.09. ein ganz besonderer Gast bei Startup Gate. Cornelia Mast\, langjährige Geschäftsführerin\, unter anderem 6 Jahre im Vorstand der „Pfaff Industriesysteme und Maschinen AG“\, gibt spannende Einblicke in den Umgang mit Innovation in mittelständischen Unternehmen. \nWeitere Informationen und die Anmeldung: Hier klicken!
URL:https://ideenwald-oekosystem.de/event/startup-gate-champions-lounge-mit-cornelia-mast/
CATEGORIES:Infoveranstaltung
ORGANIZER;CN="Startup Gate e.V.":MAILTO:florian.domeier@startup-gate.de
END:VEVENT
BEGIN:VEVENT
DTSTART;TZID=Europe/Berlin:20210917T160000
DTEND;TZID=Europe/Berlin:20210917T191500
DTSTAMP:20260424T035047
CREATED:20210225T033026Z
LAST-MODIFIED:20210831T101026Z
UID:9089-1631894400-1631906100@ideenwald-oekosystem.de
SUMMARY:Existenzgründer-Tag - Waschstraße zum Erfolg
DESCRIPTION:Die Übernahme eines bestehenden Unternehmens\, sowohl innerhalb der Familie\, als auch durch einen externen Käufer\, kann viele Vorteile haben: Ein bereits bestehender Kundenstamm\, erfahrene Mitarbeiter*innen\, kalkulierbarer Umsatz. Neben der klassischen Existenzgründung bietet diese Form des Schritts in die Selbstständigkeit also jede Menge Potenzial. Deshalb widmet sich der vierte Existenzgründer-Tag im Landkreis Bad Kreuznach insbesondere dem Thema Unternehmensübergabe. Die „Waschstraße zum Erfolg“ bietet dabei den gewohnten Service: In persönlichen Beratungsgesprächen und in Fachvorträgen erfährst du Wissenswertes rund um Unternehmensgründung\, -aufbau und -übernahme. \nDie „Waschstraße zum Erfolg“ öffnet zum vierten Mal ihre Tore. Und wir freuen uns\, wieder viele engagierte Menschen begrüßen zu dürfen\, die hier sehr leicht gute Informationen sammeln können. \nWeitere Informationen und die Anmeldung: Hier klicken!
URL:https://ideenwald-oekosystem.de/event/existenzgruender-tag-waschstrasse-zum-erfolg/
LOCATION:Wirtschaftsförderung Landkreis Bad Kreuznach\, Salinenstraße 47\, Bad Kreuznach\, Rheinland-Pfalz\, 55543\, Deutschland
CATEGORIES:Infoveranstaltung
ORGANIZER;CN="Wirtschaftsf%C3%B6rderung Landkreis Bad Kreuznach":MAILTO:thomas.brassel@kreis-badkreuznach.de
END:VEVENT
BEGIN:VEVENT
DTSTART;TZID=Europe/Berlin:20210929T090000
DTEND;TZID=Europe/Berlin:20210930T170000
DTSTAMP:20260424T035047
CREATED:20210225T000056Z
LAST-MODIFIED:20210902T094520Z
UID:9097-1632906000-1633021200@ideenwald-oekosystem.de
SUMMARY:ConnectInGR - Connecting Health(tech) & Care in the Greater Region
DESCRIPTION:Die Kontaktstelle für Wissens- und Technologietransfer der Universität des Saarlandes\, in Kooperation mit der saar.is – saarland.innovation & standort e.V. und dem European Enterprise Network lädt herzlich zur diesjährigen Netzwerkveranstaltung „ConnectInGR“ ein. Unter dem Motto „Connecting Health(tech) & Care in the Greater Region” findet am 29. und 30.09.2021 von 9:00 – 18:00 Uhr | 09:00 – 17:00 Uhr das Netzwerkevent im Rahmen des Interreg Projekts „PUSH.GR“ statt. \nTriff interessante Start-ups\, Unternehmen und Institutionen der Gesundheitsbranche aus der Großregion. Inspirierende Plenarsitzungen\, informative Workshops\, spannende Elevator Pitches und gezielte 1:1-Gespräche versprechen Wissenszuwachs und neue Geschäftskontakte innerhalb der Großregion. \nWeitere Informationen und die Anmeldung: Hier klicken!
URL:https://ideenwald-oekosystem.de/event/connectingr-connecting-healthtech-care-in-the-greater-region/
LOCATION:Online-Veranstaltung
CATEGORIES:Infoveranstaltung
ORGANIZER;CN="Gr%C3%BCndercampus Saar":MAILTO:unternehmensgruendungen@uni-saarland.de
END:VEVENT
END:VCALENDAR