BEGIN:VCALENDAR
VERSION:2.0
PRODID:-//IDEENWALD - ECPv6.15.20//NONSGML v1.0//EN
CALSCALE:GREGORIAN
METHOD:PUBLISH
X-WR-CALNAME:IDEENWALD
X-ORIGINAL-URL:https://ideenwald-oekosystem.de
X-WR-CALDESC:Veranstaltungen für IDEENWALD
REFRESH-INTERVAL;VALUE=DURATION:PT1H
X-Robots-Tag:noindex
X-PUBLISHED-TTL:PT1H
BEGIN:VTIMEZONE
TZID:Europe/Berlin
BEGIN:DAYLIGHT
TZOFFSETFROM:+0100
TZOFFSETTO:+0200
TZNAME:CEST
DTSTART:20220327T010000
END:DAYLIGHT
BEGIN:STANDARD
TZOFFSETFROM:+0200
TZOFFSETTO:+0100
TZNAME:CET
DTSTART:20221030T010000
END:STANDARD
BEGIN:DAYLIGHT
TZOFFSETFROM:+0100
TZOFFSETTO:+0200
TZNAME:CEST
DTSTART:20230326T010000
END:DAYLIGHT
BEGIN:STANDARD
TZOFFSETFROM:+0200
TZOFFSETTO:+0100
TZNAME:CET
DTSTART:20231029T010000
END:STANDARD
BEGIN:DAYLIGHT
TZOFFSETFROM:+0100
TZOFFSETTO:+0200
TZNAME:CEST
DTSTART:20240331T010000
END:DAYLIGHT
BEGIN:STANDARD
TZOFFSETFROM:+0200
TZOFFSETTO:+0100
TZNAME:CET
DTSTART:20241027T010000
END:STANDARD
END:VTIMEZONE
BEGIN:VEVENT
DTSTART;TZID=Europe/Berlin:20230915T150000
DTEND;TZID=Europe/Berlin:20230915T180000
DTSTAMP:20260422T124356
CREATED:20210109T123048Z
LAST-MODIFIED:20230807T081345Z
UID:257967-1694790000-1694800800@ideenwald-oekosystem.de
SUMMARY:Wirtschaftsge(h)spräch Westpfalz
DESCRIPTION:In der Klosterstadt Hornbach\, dem südwestlichsten Teil der Region\, findet das nächste Wirtschaftsge(h)spräch statt. Der Fokus liegt auf dem Thema „Unternehmertum im Drei-Länder-Eck“. Bei lockerer Bewegung können sich die Teilnehmer*innen ungezwungen austauschen. \n!Anmeldung und weitere Infos findet Ihr hier!
URL:https://ideenwald-oekosystem.de/event/wirtschaftsgehspraech-westpfalz/
LOCATION:Bürgerhaus Hornbach Bahnhofstraße 4 66500 Hornbach
ATTACH;FMTTYPE=image/png:https://ideenwald-oekosystem.de/wp-content/uploads/2023/08/herbst-1-figur.png
ORGANIZER;CN="ZukunftsRegion Westpfalz e.V.":MAILTO:info@zukunftsregion-westpfalz.de
END:VEVENT
END:VCALENDAR