BEGIN:VCALENDAR
VERSION:2.0
PRODID:-//IDEENWALD - ECPv6.15.20//NONSGML v1.0//EN
CALSCALE:GREGORIAN
METHOD:PUBLISH
X-ORIGINAL-URL:https://ideenwald-oekosystem.de
X-WR-CALDESC:Veranstaltungen für IDEENWALD
REFRESH-INTERVAL;VALUE=DURATION:PT1H
X-Robots-Tag:noindex
X-PUBLISHED-TTL:PT1H
BEGIN:VTIMEZONE
TZID:Europe/Berlin
BEGIN:DAYLIGHT
TZOFFSETFROM:+0100
TZOFFSETTO:+0200
TZNAME:CEST
DTSTART:20220327T010000
END:DAYLIGHT
BEGIN:STANDARD
TZOFFSETFROM:+0200
TZOFFSETTO:+0100
TZNAME:CET
DTSTART:20221030T010000
END:STANDARD
BEGIN:DAYLIGHT
TZOFFSETFROM:+0100
TZOFFSETTO:+0200
TZNAME:CEST
DTSTART:20230326T010000
END:DAYLIGHT
BEGIN:STANDARD
TZOFFSETFROM:+0200
TZOFFSETTO:+0100
TZNAME:CET
DTSTART:20231029T010000
END:STANDARD
BEGIN:DAYLIGHT
TZOFFSETFROM:+0100
TZOFFSETTO:+0200
TZNAME:CEST
DTSTART:20240331T010000
END:DAYLIGHT
BEGIN:STANDARD
TZOFFSETFROM:+0200
TZOFFSETTO:+0100
TZNAME:CET
DTSTART:20241027T010000
END:STANDARD
END:VTIMEZONE
BEGIN:VEVENT
DTSTART;TZID=Europe/Berlin:20230606T110000
DTEND;TZID=Europe/Berlin:20230606T130000
DTSTAMP:20260424T035054
CREATED:20210112T150056Z
LAST-MODIFIED:20230525T083236Z
UID:257789-1686049200-1686056400@ideenwald-oekosystem.de
SUMMARY:RAUSZEIT – IDEEN IM WALD
DESCRIPTION:FITNESS UND BEWEGUNG – AKTIVE (R)AUSZEIT IN DER NATUR\nDas Gründungsbüro der RPTU&HS Kaiserslautern-Landau begrüßt Studis\, Mitarbeitende\, angehende Startups und alle Interessierten zu unserer neuen IDEENWALD-Veranstaltungsreihe: Zusammen mit der Techniker Krankenkasse und dem Betrieblichen Gesundheitsmanagement möchten wir einmal im Monat zusammen eine Rauszeit nehmen\, uns vernetzen und zu bestimmten Themen unsere Ideen im Wald austauschen.\nAm 6. Juni 2023 treffen wir uns auf dem Vorplatz zu Gebäude 57/Rotunde am Campus Kaiserslautern und laufen mithilfe unserer IDEENWALD-App für knapp 30 Minuten auf einem Kreativpfad im Pfälzerwald. Auf unserem Rundweg erfahrt ihr in unserem Audioguide mehr zum Thema „Fitness und Bewegung“ und Trainer Patrick Buchberger wird passend dazu ein paar sportliche Übungseinheiten im Wald einbauen und euch motivieren\, eine aktive (R)auszeit in der Mittagspause und in den Alltag einzubauen. \nDie Tour beginnt jeweils um : \n11.00 Uhr: hier geht es zur Anmeldung! \n12.00 Uhr: hier geht es zur  Anmeldung! \n13.00 Uhr: hier geht es zur Anmeldung! \nFür gute Unterhaltung ist also gesorgt – meldet euch an und macht mit! \nBei schlechtem Wetter findet zwar kein Spaziergang statt\, dafür aber ein Get-together am Outdoor-Lernraum „Gönnhart“ (unter der Brücke Richtung ESA-Gebäude). \nWir freuen uns auf euch!
URL:https://ideenwald-oekosystem.de/event/rauszeit-ideen-im-wald/
LOCATION:RPTU Kaiserslautern\, Gottlieb-Daimler-Straße 47\, Kaiserslautern\, Rheinland-Pfalz\, 67663\, Deutschland
CATEGORIES:Infoveranstaltung
ATTACH;FMTTYPE=image/jpeg:https://ideenwald-oekosystem.de/wp-content/uploads/2023/05/sommer-10-figur.jpg
END:VEVENT
END:VCALENDAR