BEGIN:VCALENDAR
VERSION:2.0
PRODID:-//IDEENWALD - ECPv6.15.20//NONSGML v1.0//EN
CALSCALE:GREGORIAN
METHOD:PUBLISH
X-WR-CALNAME:IDEENWALD
X-ORIGINAL-URL:https://ideenwald-oekosystem.de
X-WR-CALDESC:Veranstaltungen für IDEENWALD
REFRESH-INTERVAL;VALUE=DURATION:PT1H
X-Robots-Tag:noindex
X-PUBLISHED-TTL:PT1H
BEGIN:VTIMEZONE
TZID:Europe/Berlin
BEGIN:DAYLIGHT
TZOFFSETFROM:+0100
TZOFFSETTO:+0200
TZNAME:CEST
DTSTART:20220327T010000
END:DAYLIGHT
BEGIN:STANDARD
TZOFFSETFROM:+0200
TZOFFSETTO:+0100
TZNAME:CET
DTSTART:20221030T010000
END:STANDARD
BEGIN:DAYLIGHT
TZOFFSETFROM:+0100
TZOFFSETTO:+0200
TZNAME:CEST
DTSTART:20230326T010000
END:DAYLIGHT
BEGIN:STANDARD
TZOFFSETFROM:+0200
TZOFFSETTO:+0100
TZNAME:CET
DTSTART:20231029T010000
END:STANDARD
BEGIN:DAYLIGHT
TZOFFSETFROM:+0100
TZOFFSETTO:+0200
TZNAME:CEST
DTSTART:20240331T010000
END:DAYLIGHT
BEGIN:STANDARD
TZOFFSETFROM:+0200
TZOFFSETTO:+0100
TZNAME:CET
DTSTART:20241027T010000
END:STANDARD
END:VTIMEZONE
BEGIN:VEVENT
DTSTART;TZID=Europe/Berlin:20230424T180000
DTEND;TZID=Europe/Berlin:20230424T220000
DTSTAMP:20260423T030539
CREATED:20210114T093040Z
LAST-MODIFIED:20230323T133421Z
UID:257572-1682359200-1682373600@ideenwald-oekosystem.de
SUMMARY:PALATINA Business Angels Pitch\, Thema: „Energy / Smart City”
DESCRIPTION:Am 24.April findet der Platina Business Angels Pitch zum Thema: Energy und Smart City statt. \n!Anmeldung und weitere Informationen findest du auf der Webseite von PALATINA!
URL:https://ideenwald-oekosystem.de/event/palatina-business-angels/
LOCATION:Pettenkoferstraße 9\, Ludwigshafen am Rhein
CATEGORIES:Infoveranstaltung
ATTACH;FMTTYPE=image/png:https://ideenwald-oekosystem.de/wp-content/uploads/2023/03/sommer-14-figur.png
END:VEVENT
END:VCALENDAR