BEGIN:VCALENDAR
VERSION:2.0
PRODID:-//IDEENWALD - ECPv6.15.20//NONSGML v1.0//EN
CALSCALE:GREGORIAN
METHOD:PUBLISH
X-WR-CALNAME:IDEENWALD
X-ORIGINAL-URL:https://ideenwald-oekosystem.de
X-WR-CALDESC:Veranstaltungen für IDEENWALD
REFRESH-INTERVAL;VALUE=DURATION:PT1H
X-Robots-Tag:noindex
X-PUBLISHED-TTL:PT1H
BEGIN:VTIMEZONE
TZID:Europe/Berlin
BEGIN:DAYLIGHT
TZOFFSETFROM:+0100
TZOFFSETTO:+0200
TZNAME:CEST
DTSTART:20210328T010000
END:DAYLIGHT
BEGIN:STANDARD
TZOFFSETFROM:+0200
TZOFFSETTO:+0100
TZNAME:CET
DTSTART:20211031T010000
END:STANDARD
BEGIN:DAYLIGHT
TZOFFSETFROM:+0100
TZOFFSETTO:+0200
TZNAME:CEST
DTSTART:20220327T010000
END:DAYLIGHT
BEGIN:STANDARD
TZOFFSETFROM:+0200
TZOFFSETTO:+0100
TZNAME:CET
DTSTART:20221030T010000
END:STANDARD
BEGIN:DAYLIGHT
TZOFFSETFROM:+0100
TZOFFSETTO:+0200
TZNAME:CEST
DTSTART:20230326T010000
END:DAYLIGHT
BEGIN:STANDARD
TZOFFSETFROM:+0200
TZOFFSETTO:+0100
TZNAME:CET
DTSTART:20231029T010000
END:STANDARD
END:VTIMEZONE
BEGIN:VEVENT
DTSTART;TZID=Europe/Berlin:20220407T190000
DTEND;TZID=Europe/Berlin:20220407T190000
DTSTAMP:20260422T024529
CREATED:20210120T122711Z
LAST-MODIFIED:20220328T151137Z
UID:255267-1649358000-1649358000@ideenwald-oekosystem.de
SUMMARY:Unternehmensförderung und Persönlichkeitsentwicklung: Gründerinnen Stammtisch Eifel
DESCRIPTION:Am 07.04.2022 findet um 19 Uhr der Gründerinnen Stammtisch Eifel ein. Gründerin Carmen Klein von der Unternehmensberatung Klein – Jakoby und Partner wird zu verschiedenen Themen im Bereich der Unternehmensförderung und über die Persönlichkeitsentwicklung erzählen. \nBitte bring Deine Visitenkarten zum Netzwerken mit! \nAn diesem Abend gelten die gültigen Coronaregeln.\nAnmeldung bis spätestens 05.04.22. Wer nicht teilnehmen kann\, braucht auch nicht absagen. \nWeitere Informationen und die Anmeldung: Hier klicken!
URL:https://ideenwald-oekosystem.de/event/gruenderinnen-stammtisch-eifel-3/
LOCATION:Borenweg 12\, 54634 Bitburg
CATEGORIES:Infoveranstaltung
END:VEVENT
END:VCALENDAR