BEGIN:VCALENDAR
VERSION:2.0
PRODID:-//IDEENWALD - ECPv6.15.20//NONSGML v1.0//EN
CALSCALE:GREGORIAN
METHOD:PUBLISH
X-WR-CALNAME:IDEENWALD
X-ORIGINAL-URL:https://ideenwald-oekosystem.de
X-WR-CALDESC:Veranstaltungen für IDEENWALD
REFRESH-INTERVAL;VALUE=DURATION:PT1H
X-Robots-Tag:noindex
X-PUBLISHED-TTL:PT1H
BEGIN:VTIMEZONE
TZID:Europe/Berlin
BEGIN:DAYLIGHT
TZOFFSETFROM:+0100
TZOFFSETTO:+0200
TZNAME:CEST
DTSTART:20220327T010000
END:DAYLIGHT
BEGIN:STANDARD
TZOFFSETFROM:+0200
TZOFFSETTO:+0100
TZNAME:CET
DTSTART:20221030T010000
END:STANDARD
BEGIN:DAYLIGHT
TZOFFSETFROM:+0100
TZOFFSETTO:+0200
TZNAME:CEST
DTSTART:20230326T010000
END:DAYLIGHT
BEGIN:STANDARD
TZOFFSETFROM:+0200
TZOFFSETTO:+0100
TZNAME:CET
DTSTART:20231029T010000
END:STANDARD
BEGIN:DAYLIGHT
TZOFFSETFROM:+0100
TZOFFSETTO:+0200
TZNAME:CEST
DTSTART:20240331T010000
END:DAYLIGHT
BEGIN:STANDARD
TZOFFSETFROM:+0200
TZOFFSETTO:+0100
TZNAME:CET
DTSTART:20241027T010000
END:STANDARD
END:VTIMEZONE
BEGIN:VEVENT
DTSTART;TZID=Europe/Berlin:20230613T180000
DTEND;TZID=Europe/Berlin:20230613T203000
DTSTAMP:20260422T081455
CREATED:20210112T130021Z
LAST-MODIFIED:20230525T085956Z
UID:257798-1686679200-1686688200@ideenwald-oekosystem.de
SUMMARY:STARTUP SLAM
DESCRIPTION:Am 13.06.2023 findet ab 18.00 Uhr der Startup Slam auf dem Vorplatz der Mensa der Hochschule #Kaiserslautern am Campus #Pirmasens statt.\n\nEntdeckt #regionale #Startups\, während sie ihre #Ideen\, #Produkte und #Dienstleistungen in einem 5-minütigen #Pitch präsentieren. Und wer könnte das besser moderieren als der zweifache Rheinland-Pfälzische Poetry Slam Meister Markus Becherer? 🎩🎙\n\nProgramm:\n🕕 18:00 Uhr – Ankommen & Netzwerken\n🕡 18:30 Uhr – Beginn der Veranstaltung\, Begrüßung und thematisches Intro\n🕖 18:50 Uhr – Beginn der Slam-Phase\n🕗 20:05 Uhr – Siegerehrung durch Abstimmung des Publikums – also durch euch!\n🕣 20:30 Uhr – Beisammensein mit open end\n\nFür euer leibliches Wohl sorgt die Fachschaft Angewandte Logistik- und Polymerwissenschaften. 🍔🍻\n\nDu möchtest dabei sein? Jetzt als Zuschauer anmelden:\nhttps://www.hs-kl.de/startups/ \n\nDu bist ein Startup? Melde dich hier an:\nIdeenwald.events@hs-kl.de
URL:https://ideenwald-oekosystem.de/event/startup-slam-2/
LOCATION:Campus Pirmasens – Vorplatz der Mensa\, Carl-Schurz-Straße 10-16\, Pirmasens\, 66953\, Deutschland
CATEGORIES:Infoveranstaltung
ATTACH;FMTTYPE=image/png:https://ideenwald-oekosystem.de/wp-content/uploads/2023/05/sommer-11-figur.png
END:VEVENT
END:VCALENDAR