BEGIN:VCALENDAR
VERSION:2.0
PRODID:-//IDEENWALD - ECPv6.15.20//NONSGML v1.0//EN
CALSCALE:GREGORIAN
METHOD:PUBLISH
X-ORIGINAL-URL:https://ideenwald-oekosystem.de
X-WR-CALDESC:Veranstaltungen für IDEENWALD
REFRESH-INTERVAL;VALUE=DURATION:PT1H
X-Robots-Tag:noindex
X-PUBLISHED-TTL:PT1H
BEGIN:VTIMEZONE
TZID:Europe/Berlin
BEGIN:DAYLIGHT
TZOFFSETFROM:+0100
TZOFFSETTO:+0200
TZNAME:CEST
DTSTART:20230326T010000
END:DAYLIGHT
BEGIN:STANDARD
TZOFFSETFROM:+0200
TZOFFSETTO:+0100
TZNAME:CET
DTSTART:20231029T010000
END:STANDARD
BEGIN:DAYLIGHT
TZOFFSETFROM:+0100
TZOFFSETTO:+0200
TZNAME:CEST
DTSTART:20240331T010000
END:DAYLIGHT
BEGIN:STANDARD
TZOFFSETFROM:+0200
TZOFFSETTO:+0100
TZNAME:CET
DTSTART:20241027T010000
END:STANDARD
BEGIN:DAYLIGHT
TZOFFSETFROM:+0100
TZOFFSETTO:+0200
TZNAME:CEST
DTSTART:20250330T010000
END:DAYLIGHT
BEGIN:STANDARD
TZOFFSETFROM:+0200
TZOFFSETTO:+0100
TZNAME:CET
DTSTART:20251026T010000
END:STANDARD
END:VTIMEZONE
BEGIN:VEVENT
DTSTART;VALUE=DATE:20241022
DTEND;VALUE=DATE:20241023
DTSTAMP:20260419T161059
CREATED:20201212T020042Z
LAST-MODIFIED:20240816T091915Z
UID:260117-1729555200-1729641599@ideenwald-oekosystem.de
SUMMARY:SocialPizza - Sozialversicherung für Gründende und Startups
DESCRIPTION:Du startest gerade dein erstes Business oder trittst in die Selbständigkeit ein? Dann ist das hier genau der richtige Workshop für dich! Mit dem SocialPizza-Team der Techniker Krankenkasse wird Startup-Beraterin Julia Koziol einen Workshop halten. Da stellen sie die Basics der Sozialversicherung vor\, die beginnende Unternehmer*innen so gebrauchen können\, um sicher in ihre Selbstständigkeit starten zu können! Dabei werden sie sich darauf konzentrieren alles mögliche rund um Versicherungen\, Beitragswesen\, Meldung und Einstellung von Mitarbeitenden und Praktikant*innen in diesem Workshop zu behandeln! Die Inhalte sind nach den verschiedenen Phasen einer Selbstständigkeit\, wie unterschiedliche Stücke Pizza\, sortiert. Die genaue Uhrzeit des Workshops steht noch nicht fest. Die wird später noch bekannt gegeben. Wenn ihr euch für den Workshop interessiert könnt ihr euch noch bis zum 20.10. hier anmelden: Gründungsbüro – Anmeldung
URL:https://ideenwald-oekosystem.de/event/socialpizza-sozialversicherung-fuer-gruendende-und-startups/
LOCATION:Online-Veranstaltung
CATEGORIES:Online-Veranstaltung,Workshop
ATTACH;FMTTYPE=image/png:https://ideenwald-oekosystem.de/wp-content/uploads/2023/08/herbst-1-figur.png
END:VEVENT
END:VCALENDAR