BEGIN:VCALENDAR
VERSION:2.0
PRODID:-//IDEENWALD - ECPv6.15.20//NONSGML v1.0//EN
CALSCALE:GREGORIAN
METHOD:PUBLISH
X-WR-CALNAME:IDEENWALD
X-ORIGINAL-URL:https://ideenwald-oekosystem.de
X-WR-CALDESC:Veranstaltungen für IDEENWALD
REFRESH-INTERVAL;VALUE=DURATION:PT1H
X-Robots-Tag:noindex
X-PUBLISHED-TTL:PT1H
BEGIN:VTIMEZONE
TZID:Europe/Berlin
BEGIN:DAYLIGHT
TZOFFSETFROM:+0100
TZOFFSETTO:+0200
TZNAME:CEST
DTSTART:20220327T010000
END:DAYLIGHT
BEGIN:STANDARD
TZOFFSETFROM:+0200
TZOFFSETTO:+0100
TZNAME:CET
DTSTART:20221030T010000
END:STANDARD
BEGIN:DAYLIGHT
TZOFFSETFROM:+0100
TZOFFSETTO:+0200
TZNAME:CEST
DTSTART:20230326T010000
END:DAYLIGHT
BEGIN:STANDARD
TZOFFSETFROM:+0200
TZOFFSETTO:+0100
TZNAME:CET
DTSTART:20231029T010000
END:STANDARD
BEGIN:DAYLIGHT
TZOFFSETFROM:+0100
TZOFFSETTO:+0200
TZNAME:CEST
DTSTART:20240331T010000
END:DAYLIGHT
BEGIN:STANDARD
TZOFFSETFROM:+0200
TZOFFSETTO:+0100
TZNAME:CET
DTSTART:20241027T010000
END:STANDARD
END:VTIMEZONE
BEGIN:VEVENT
DTSTART;TZID=Europe/Berlin:20230615T140000
DTEND;TZID=Europe/Berlin:20230615T210000
DTSTAMP:20260426T022722
CREATED:20210112T123006Z
LAST-MODIFIED:20230525T111625Z
UID:257793-1686837600-1686862800@ideenwald-oekosystem.de
SUMMARY:HIGHWAY TO (HIGH)TECH
DESCRIPTION:***english version below*** \nDie innovativste Busfahrt der Westpfalz!\nBegebt euch am 15.06.2023\, von 14 Uhr bis 21 Uhr auf den HighTech-Highway in Kaiserslautern 😉. \nIhr lernt auf der Bustour dabei eure zukünftigen ArbeitgeberInnen kennen oder lasst euch von Startups inspirieren euer eigenes Ding zu machen. Besucht mit uns verschiedene Institute\, Unternehmen und Startups und taucht in die Lauterer BusinessWelt ein. An jeder Haltstellen erwartet euch die Vorstellung der Einrichtungen und die Möglichkeit euch zu vernetzen und Fragen zu stellen. \nAnmeldung und weitere Informationen findet ihr hier! \n************************************\nThe most innovative bus ride in Western Palatinate!\nGet on the hightech highway in Kaiserslautern 😉 on 15th June\, from 2 pm to 9 pm. \nOn the bus tour\, you will get to know your future employers or be inspired by startups to do your own thing. Visit different institutes\, companies and startups with us and immerse yourself in the business world of Kaiserslautern. At each stop\, you can expect a presentation of the institutions and the opportunity to network and ask questions. \nRegistration and further information can be found here!
URL:https://ideenwald-oekosystem.de/event/highway-to-hightech/
LOCATION:Startpunkt: Leibniz-Institut für Verbundwerkstoffe\, Gebäude 58\, RPTU
CATEGORIES:Infoveranstaltung
ATTACH;FMTTYPE=image/png:https://ideenwald-oekosystem.de/wp-content/uploads/2023/01/gartenschau-kaiserslautern-anna-wojtas.png
END:VEVENT
END:VCALENDAR