BEGIN:VCALENDAR
VERSION:2.0
PRODID:-//IDEENWALD - ECPv6.15.20//NONSGML v1.0//EN
CALSCALE:GREGORIAN
METHOD:PUBLISH
X-ORIGINAL-URL:https://ideenwald-oekosystem.de
X-WR-CALDESC:Veranstaltungen für IDEENWALD
REFRESH-INTERVAL;VALUE=DURATION:PT1H
X-Robots-Tag:noindex
X-PUBLISHED-TTL:PT1H
BEGIN:VTIMEZONE
TZID:Europe/Berlin
BEGIN:DAYLIGHT
TZOFFSETFROM:+0100
TZOFFSETTO:+0200
TZNAME:CEST
DTSTART:20230326T010000
END:DAYLIGHT
BEGIN:STANDARD
TZOFFSETFROM:+0200
TZOFFSETTO:+0100
TZNAME:CET
DTSTART:20231029T010000
END:STANDARD
BEGIN:DAYLIGHT
TZOFFSETFROM:+0100
TZOFFSETTO:+0200
TZNAME:CEST
DTSTART:20240331T010000
END:DAYLIGHT
BEGIN:STANDARD
TZOFFSETFROM:+0200
TZOFFSETTO:+0100
TZNAME:CET
DTSTART:20241027T010000
END:STANDARD
BEGIN:DAYLIGHT
TZOFFSETFROM:+0100
TZOFFSETTO:+0200
TZNAME:CEST
DTSTART:20250330T010000
END:DAYLIGHT
BEGIN:STANDARD
TZOFFSETFROM:+0200
TZOFFSETTO:+0100
TZNAME:CET
DTSTART:20251026T010000
END:STANDARD
END:VTIMEZONE
BEGIN:VEVENT
DTSTART;TZID=Europe/Berlin:20240904T190000
DTEND;TZID=Europe/Berlin:20240904T210000
DTSTAMP:20260423T143156
CREATED:20201217T120020Z
LAST-MODIFIED:20240827T121535Z
UID:260171-1725476400-1725483600@ideenwald-oekosystem.de
SUMMARY:Kapitalmarktforum 2024
DESCRIPTION:Am 04. September  findet abends in Pirmasens das Kapitalmarktforum statt!\nDieses Mal liegt der Fokus auf der Kapitalmärkte in den USA nach den Schlüsselwahlen. Dafür gibt es drei Vorträge über den Abend verteilt: \n„Die Kapitalmärkte vor den US-Wahlen – Status Quo der Weltwirtschaft“\nReferent: Holger Hoffmann (Fürst Fugger Privatbank)\n„US-Wirtschaft nach den Wahlen – Risiko oder Chance?“\nReferent: Andreas Franz (COMGEST)\n„Eine Welt im Wandel – Fondsmanagement in Zeiten von KI“\nReferent: Holger Schröm (J.P. Morgan Asset Management) \n.Der Eintritt ist frei. Da die Teilnehmerzahl begrenzt ist\, wird um eine Anmeldung per Mail oder telefonisch  gebeten. \nMail: rd-kaiserslautern@dbfp.de\nTelefon: 06331-217588
URL:https://ideenwald-oekosystem.de/event/kapitalmarktforum-2024/
LOCATION:Emils Hotel\, Luitpoldstraße 2\, Pirmasens\, Rheinlandpfalz\, 66954
CATEGORIES:Infoveranstaltung
ATTACH;FMTTYPE=image/png:https://ideenwald-oekosystem.de/wp-content/uploads/2023/06/herbst-9-figur.png
ORGANIZER;CN="Holger Hoffman":MAILTO:holger.hoffmann@fuggerbank.de
END:VEVENT
END:VCALENDAR