BEGIN:VCALENDAR
VERSION:2.0
PRODID:-//IDEENWALD - ECPv6.15.20//NONSGML v1.0//EN
CALSCALE:GREGORIAN
METHOD:PUBLISH
X-ORIGINAL-URL:https://ideenwald-oekosystem.de
X-WR-CALDESC:Veranstaltungen für IDEENWALD
REFRESH-INTERVAL;VALUE=DURATION:PT1H
X-Robots-Tag:noindex
X-PUBLISHED-TTL:PT1H
BEGIN:VTIMEZONE
TZID:Europe/Berlin
BEGIN:DAYLIGHT
TZOFFSETFROM:+0100
TZOFFSETTO:+0200
TZNAME:CEST
DTSTART:20210328T010000
END:DAYLIGHT
BEGIN:STANDARD
TZOFFSETFROM:+0200
TZOFFSETTO:+0100
TZNAME:CET
DTSTART:20211031T010000
END:STANDARD
BEGIN:DAYLIGHT
TZOFFSETFROM:+0100
TZOFFSETTO:+0200
TZNAME:CEST
DTSTART:20220327T010000
END:DAYLIGHT
BEGIN:STANDARD
TZOFFSETFROM:+0200
TZOFFSETTO:+0100
TZNAME:CET
DTSTART:20221030T010000
END:STANDARD
BEGIN:DAYLIGHT
TZOFFSETFROM:+0100
TZOFFSETTO:+0200
TZNAME:CEST
DTSTART:20230326T010000
END:DAYLIGHT
BEGIN:STANDARD
TZOFFSETFROM:+0200
TZOFFSETTO:+0100
TZNAME:CET
DTSTART:20231029T010000
END:STANDARD
END:VTIMEZONE
BEGIN:VEVENT
DTSTART;TZID=Europe/Berlin:20221116T090000
DTEND;TZID=Europe/Berlin:20221116T150000
DTSTAMP:20260425T131952
CREATED:20210119T133029Z
LAST-MODIFIED:20221019T153328Z
UID:256717-1668589200-1668610800@ideenwald-oekosystem.de
SUMMARY:UX-Workshop
DESCRIPTION:Am 16. November\, von 9:00 Uhr bis 15:00 Uhr erfahrt Ihr im UX-Workshop\, wie Ihr Euer Produkt am Kund*innen testest und den Prototypen durch Kund*innenfeedback zur Marktreife weiterentwickelt. \nWeitere Informationen und Anmeldung auf der Gründungsbüro-Webseite!
URL:https://ideenwald-oekosystem.de/event/ux-workshop/
LOCATION:Hochschule Kaiserslautern\, Standort Zweibrücken\, Amerikastr. 1\, Zweibrücken\, Rheinland-Pfalz\, 66482\, Deutschland
CATEGORIES:Workshop
END:VEVENT
END:VCALENDAR