BEGIN:VCALENDAR
VERSION:2.0
PRODID:-//IDEENWALD - ECPv6.15.20//NONSGML v1.0//EN
CALSCALE:GREGORIAN
METHOD:PUBLISH
X-ORIGINAL-URL:https://ideenwald-oekosystem.de
X-WR-CALDESC:Veranstaltungen für IDEENWALD
REFRESH-INTERVAL;VALUE=DURATION:PT1H
X-Robots-Tag:noindex
X-PUBLISHED-TTL:PT1H
BEGIN:VTIMEZONE
TZID:Europe/Berlin
BEGIN:DAYLIGHT
TZOFFSETFROM:+0100
TZOFFSETTO:+0200
TZNAME:CEST
DTSTART:20200329T010000
END:DAYLIGHT
BEGIN:STANDARD
TZOFFSETFROM:+0200
TZOFFSETTO:+0100
TZNAME:CET
DTSTART:20201025T010000
END:STANDARD
BEGIN:DAYLIGHT
TZOFFSETFROM:+0100
TZOFFSETTO:+0200
TZNAME:CEST
DTSTART:20210328T010000
END:DAYLIGHT
BEGIN:STANDARD
TZOFFSETFROM:+0200
TZOFFSETTO:+0100
TZNAME:CET
DTSTART:20211031T010000
END:STANDARD
BEGIN:DAYLIGHT
TZOFFSETFROM:+0100
TZOFFSETTO:+0200
TZNAME:CEST
DTSTART:20220327T010000
END:DAYLIGHT
BEGIN:STANDARD
TZOFFSETFROM:+0200
TZOFFSETTO:+0100
TZNAME:CET
DTSTART:20221030T010000
END:STANDARD
END:VTIMEZONE
BEGIN:VEVENT
DTSTART;TZID=Europe/Berlin:20211125T090000
DTEND;TZID=Europe/Berlin:20211126T170000
DTSTAMP:20260425T220723
CREATED:20210224T041444Z
LAST-MODIFIED:20211202T162528Z
UID:11765-1637830800-1637946000@ideenwald-oekosystem.de
SUMMARY:Workshop: From PhD to Innovator
DESCRIPTION:The Young Entrepreneurs in Science program\, of the Falling Walls Foundation\, is offering the workshop „From PhD to Innovator.“ On Novembre 25-26\, the workshop is scheduled for our region: youngentrepreneursinscience.com/events. \nThe content of this online workshop revolves around how to develop a business idea from a doctoral thesis. The network provides experienced coaches for this purpose. The workshop is free of charge and requires no prior knowledge and will take place via Zoom between 9:00 am and 5:00 pm in English. \nMore information and registration: Click here!
URL:https://ideenwald-oekosystem.de/event/workshop-from-phd-to-innovator/
LOCATION:Online-Veranstaltung
CATEGORIES:Online-Veranstaltung,Workshop
END:VEVENT
END:VCALENDAR