BEGIN:VCALENDAR
VERSION:2.0
PRODID:-//IDEENWALD - ECPv6.15.20//NONSGML v1.0//EN
CALSCALE:GREGORIAN
METHOD:PUBLISH
X-ORIGINAL-URL:https://ideenwald-oekosystem.de
X-WR-CALDESC:Veranstaltungen für IDEENWALD
REFRESH-INTERVAL;VALUE=DURATION:PT1H
X-Robots-Tag:noindex
X-PUBLISHED-TTL:PT1H
BEGIN:VTIMEZONE
TZID:Europe/Berlin
BEGIN:DAYLIGHT
TZOFFSETFROM:+0100
TZOFFSETTO:+0200
TZNAME:CEST
DTSTART:20210328T010000
END:DAYLIGHT
BEGIN:STANDARD
TZOFFSETFROM:+0200
TZOFFSETTO:+0100
TZNAME:CET
DTSTART:20211031T010000
END:STANDARD
BEGIN:DAYLIGHT
TZOFFSETFROM:+0100
TZOFFSETTO:+0200
TZNAME:CEST
DTSTART:20220327T010000
END:DAYLIGHT
BEGIN:STANDARD
TZOFFSETFROM:+0200
TZOFFSETTO:+0100
TZNAME:CET
DTSTART:20221030T010000
END:STANDARD
BEGIN:DAYLIGHT
TZOFFSETFROM:+0100
TZOFFSETTO:+0200
TZNAME:CEST
DTSTART:20230326T010000
END:DAYLIGHT
BEGIN:STANDARD
TZOFFSETFROM:+0200
TZOFFSETTO:+0100
TZNAME:CET
DTSTART:20231029T010000
END:STANDARD
END:VTIMEZONE
BEGIN:VEVENT
DTSTART;TZID=Europe/Berlin:20220602T160000
DTEND;TZID=Europe/Berlin:20220602T173000
DTSTAMP:20260423T105208
CREATED:20210120T100026Z
LAST-MODIFIED:20220526T175622Z
UID:12621-1654185600-1654191000@ideenwald-oekosystem.de
SUMMARY:Blockchain-Potentiale III: Abschlussveranstaltung
DESCRIPTION:Dies ist die Abschlussveranstaltung der Blockchain Workshop-Reihe aus Blockchain-Potentiale I (05.05.2022) und Blockchain-Potentiale II (20. & 21.05.2022) des Ideenwald. \nBei dieser Veranstaltung werden wir uns mit den möglichen zukünftigen Geschäftsmodellen auf der Blockchain beschäftigen und die Technologie auf einer visionären Ebene betrachten. \nWeitere Informationen und die Anmeldung: Hier klicken!
URL:https://ideenwald-oekosystem.de/event/blockchain-potentiale-iii-abschlussveranstaltung-ideenwald/
LOCATION:Online
CATEGORIES:Online-Veranstaltung,Workshop
ORGANIZER;CN="Gr%C3%BCndungsb%C3%BCro TU&HS Kaiserslautern":MAILTO:info@gruendungsbuero.info
END:VEVENT
BEGIN:VEVENT
DTSTART;TZID=Europe/Berlin:20220622T093000
DTEND;TZID=Europe/Berlin:20220622T180000
DTSTAMP:20260423T105208
CREATED:20210120T080009Z
LAST-MODIFIED:20220628T063916Z
UID:255830-1655890200-1655920800@ideenwald-oekosystem.de
SUMMARY:Women only – Gründerinnenworkshop
DESCRIPTION:Mit FeMentor\, Insight.out\, Klassenheld & der Innovationsbühne! \nDieser Workshop ist ein Auftakt\, um Teil einer Gruppe von Frauen zu werden\, die bereits gegründet haben\, mittendrin sind oder sich für das Thema interessieren.Wir möchten ein interdisziplinäres Umfeld schaffen\, in dem ihr euch mit Gleichgesinnten austauschen könnt\, egal in welcher Branche ihr euch bewegt oder ihr anstrebt. \nWir möchten euch durch den Workshop inhaltlich und menschlich Expertise\, Mut und Inspiration mitgeben und sehen dieses Zusammenkommen als Auftakt für permanten stattfindende Treffen und eine Gruppe die zusammenwächst. \nDie Anmeldung und mehr Informationen gibt es auf der Gründungsbüro-Webseite!
URL:https://ideenwald-oekosystem.de/event/women-only-gruenderinnenworkshop/
LOCATION:Engineering 4.0 Lab Kaiserslautern
CATEGORIES:Workshop
END:VEVENT
END:VCALENDAR