BEGIN:VCALENDAR
VERSION:2.0
PRODID:-//IDEENWALD - ECPv6.15.20//NONSGML v1.0//EN
CALSCALE:GREGORIAN
METHOD:PUBLISH
X-ORIGINAL-URL:https://ideenwald-oekosystem.de
X-WR-CALDESC:Veranstaltungen für IDEENWALD
REFRESH-INTERVAL;VALUE=DURATION:PT1H
X-Robots-Tag:noindex
X-PUBLISHED-TTL:PT1H
BEGIN:VTIMEZONE
TZID:Europe/Berlin
BEGIN:DAYLIGHT
TZOFFSETFROM:+0100
TZOFFSETTO:+0200
TZNAME:CEST
DTSTART:20220327T010000
END:DAYLIGHT
BEGIN:STANDARD
TZOFFSETFROM:+0200
TZOFFSETTO:+0100
TZNAME:CET
DTSTART:20221030T010000
END:STANDARD
BEGIN:DAYLIGHT
TZOFFSETFROM:+0100
TZOFFSETTO:+0200
TZNAME:CEST
DTSTART:20230326T010000
END:DAYLIGHT
BEGIN:STANDARD
TZOFFSETFROM:+0200
TZOFFSETTO:+0100
TZNAME:CET
DTSTART:20231029T010000
END:STANDARD
BEGIN:DAYLIGHT
TZOFFSETFROM:+0100
TZOFFSETTO:+0200
TZNAME:CEST
DTSTART:20240331T010000
END:DAYLIGHT
BEGIN:STANDARD
TZOFFSETFROM:+0200
TZOFFSETTO:+0100
TZNAME:CET
DTSTART:20241027T010000
END:STANDARD
END:VTIMEZONE
BEGIN:VEVENT
DTSTART;TZID=Europe/Berlin:20231010T100000
DTEND;TZID=Europe/Berlin:20231011T170000
DTSTAMP:20260422T010734
CREATED:20210108T150009Z
LAST-MODIFIED:20230511T120049Z
UID:257706-1696932000-1697043600@ideenwald-oekosystem.de
SUMMARY:Wienpahl & Wermke - Rhetorik\, Kamerawirkung\, freie Rede - Intensivworkshop
DESCRIPTION:TV-Moderator trifft Anwalt. Das besondere Rhetorik- & Kameratraining zweier Trainer\, die es lieben\, Menschen in ihrer Entwicklung zu begleiten.\n \nHolger Wienpahl ist ein deutscher Sportjournalist und Fernsehmoderator. Christian Wermke ist Rechtsanwalt\, Verhandlungs- und Rhetorikexperte und systemischer Coach. \n!Anmeldung und weitere Informationen findet ihr hier!
URL:https://ideenwald-oekosystem.de/event/wienpahl-wermke-rhetorik-kamerawirkung-freie-rede-intensivworkshop/
LOCATION:Anni-Eisler-Lehmann-Straße 3 COWORKING-M1 55122 Mainz
CATEGORIES:Workshop
ATTACH;FMTTYPE=image/png:https://ideenwald-oekosystem.de/wp-content/uploads/2023/05/herbst-2-figur.png
END:VEVENT
END:VCALENDAR