BEGIN:VCALENDAR
VERSION:2.0
PRODID:-//IDEENWALD - ECPv6.15.20//NONSGML v1.0//EN
CALSCALE:GREGORIAN
METHOD:PUBLISH
X-WR-CALNAME:IDEENWALD
X-ORIGINAL-URL:https://ideenwald-oekosystem.de
X-WR-CALDESC:Veranstaltungen für IDEENWALD
REFRESH-INTERVAL;VALUE=DURATION:PT1H
X-Robots-Tag:noindex
X-PUBLISHED-TTL:PT1H
BEGIN:VTIMEZONE
TZID:Europe/Berlin
BEGIN:DAYLIGHT
TZOFFSETFROM:+0100
TZOFFSETTO:+0200
TZNAME:CEST
DTSTART:20230326T010000
END:DAYLIGHT
BEGIN:STANDARD
TZOFFSETFROM:+0200
TZOFFSETTO:+0100
TZNAME:CET
DTSTART:20231029T010000
END:STANDARD
BEGIN:DAYLIGHT
TZOFFSETFROM:+0100
TZOFFSETTO:+0200
TZNAME:CEST
DTSTART:20240331T010000
END:DAYLIGHT
BEGIN:STANDARD
TZOFFSETFROM:+0200
TZOFFSETTO:+0100
TZNAME:CET
DTSTART:20241027T010000
END:STANDARD
BEGIN:DAYLIGHT
TZOFFSETFROM:+0100
TZOFFSETTO:+0200
TZNAME:CEST
DTSTART:20250330T010000
END:DAYLIGHT
BEGIN:STANDARD
TZOFFSETFROM:+0200
TZOFFSETTO:+0100
TZNAME:CET
DTSTART:20251026T010000
END:STANDARD
END:VTIMEZONE
BEGIN:VEVENT
DTSTART;TZID=Europe/Berlin:20240314T150000
DTEND;TZID=Europe/Berlin:20240314T170000
DTSTAMP:20260421T154907
CREATED:20220102T110012Z
LAST-MODIFIED:20240222T143153Z
UID:259140-1710428400-1710435600@ideenwald-oekosystem.de
SUMMARY:EXIST-Women Workshop: Mindset & Bewusstsein für Gründerinnen
DESCRIPTION:Der Fokus liegt darauf\, das persönliche Gründerinnenprofil zu erkunden\, die eigene Vision zu klären\, die individuellen Werte zu identifizieren und die Ziele sowie die Motivation hinter der Gründung zu definieren. Dabei steht im Mittelpunkt\, herauszufinden\, was man wirklich will – angefangen bei den eigenen Stärken und Schwächen bis hin zu den vorhandenen Kompetenzen\, die optimal für die Gründung genutzt werden können. Ein weiteres Ziel ist es\, Selbstzweifel zu überwinden und gestärkt sowie motiviert den Weg in die Gründung anzutreten. Besonderes Augenmerk liegt darauf\, dass Frauen aufgrund ihrer spezifischen Herangehensweise an die Gründung eine besondere Unterstützung benötigen und entsprechend begleitet werden sollen. \nWeitere Informationen und Anmeldung auf der Gründungsbüro-Webseite!
URL:https://ideenwald-oekosystem.de/event/exist-women-workshop-mindset-bewusstsein-fuer-gruenderinnen/
LOCATION:Online
CATEGORIES:Online-Veranstaltung,Workshop
ATTACH;FMTTYPE=image/png:https://ideenwald-oekosystem.de/wp-content/uploads/2023/02/fruehling-7-figur.png
END:VEVENT
END:VCALENDAR