BEGIN:VCALENDAR
VERSION:2.0
PRODID:-//IDEENWALD - ECPv6.15.20//NONSGML v1.0//EN
CALSCALE:GREGORIAN
METHOD:PUBLISH
X-ORIGINAL-URL:https://ideenwald-oekosystem.de
X-WR-CALDESC:Veranstaltungen für IDEENWALD
REFRESH-INTERVAL;VALUE=DURATION:PT1H
X-Robots-Tag:noindex
X-PUBLISHED-TTL:PT1H
BEGIN:VTIMEZONE
TZID:Europe/Berlin
BEGIN:DAYLIGHT
TZOFFSETFROM:+0100
TZOFFSETTO:+0200
TZNAME:CEST
DTSTART:20230326T010000
END:DAYLIGHT
BEGIN:STANDARD
TZOFFSETFROM:+0200
TZOFFSETTO:+0100
TZNAME:CET
DTSTART:20231029T010000
END:STANDARD
BEGIN:DAYLIGHT
TZOFFSETFROM:+0100
TZOFFSETTO:+0200
TZNAME:CEST
DTSTART:20240331T010000
END:DAYLIGHT
BEGIN:STANDARD
TZOFFSETFROM:+0200
TZOFFSETTO:+0100
TZNAME:CET
DTSTART:20241027T010000
END:STANDARD
BEGIN:DAYLIGHT
TZOFFSETFROM:+0100
TZOFFSETTO:+0200
TZNAME:CEST
DTSTART:20250330T010000
END:DAYLIGHT
BEGIN:STANDARD
TZOFFSETFROM:+0200
TZOFFSETTO:+0100
TZNAME:CET
DTSTART:20251026T010000
END:STANDARD
END:VTIMEZONE
BEGIN:VEVENT
DTSTART;TZID=Europe/Berlin:20240507T140000
DTEND;TZID=Europe/Berlin:20240507T200000
DTSTAMP:20260421T114228
CREATED:20201228T190027Z
LAST-MODIFIED:20240430T124319Z
UID:259810-1715090400-1715112000@ideenwald-oekosystem.de
SUMMARY:Zukunftssymposium 2024: Kollaboratives Digitales Engineering
DESCRIPTION:Am 7. Mai 2024 findet ab 14 Uhr das Zukunftssymposium im e4Lab statt!\nEs werden unterschiedliche Referenten über das Event hinweg zu Themen Design Thinking\, Collaboration\, AI in Engineering und Digital Twins Vorträge halten. Darüber hinaus werden auch kleine Workshops und Live Demos die Konzepte der Vorträge näher bringen.\nIhr erfahrt mehr über die Zukunft der digitalen Produktentstehung.\nLasst euch inspirieren und mit anpacken beim Gestalten der digitalen Zukunft! \n!Meldet euch bis 05.05.2024 auf der Webseite des e4Lab an!\nZukunftssymposium – Anmeldung
URL:https://ideenwald-oekosystem.de/event/zukunftssymposium-2024-kollaboratives-digitales-engineering/
LOCATION:Engineering 4.0 Lab Kaiserslautern
CATEGORIES:Hybrid-Veranstaltung,Infoveranstaltung
ATTACH;FMTTYPE=image/jpeg:https://ideenwald-oekosystem.de/wp-content/uploads/2023/02/fruehling-11-figur.jpg
END:VEVENT
END:VCALENDAR