BEGIN:VCALENDAR
VERSION:2.0
PRODID:-//IDEENWALD - ECPv6.15.20//NONSGML v1.0//EN
CALSCALE:GREGORIAN
METHOD:PUBLISH
X-WR-CALNAME:IDEENWALD
X-ORIGINAL-URL:https://ideenwald-oekosystem.de
X-WR-CALDESC:Veranstaltungen für IDEENWALD
REFRESH-INTERVAL;VALUE=DURATION:PT1H
X-Robots-Tag:noindex
X-PUBLISHED-TTL:PT1H
BEGIN:VTIMEZONE
TZID:Europe/Berlin
BEGIN:DAYLIGHT
TZOFFSETFROM:+0100
TZOFFSETTO:+0200
TZNAME:CEST
DTSTART:20230326T010000
END:DAYLIGHT
BEGIN:STANDARD
TZOFFSETFROM:+0200
TZOFFSETTO:+0100
TZNAME:CET
DTSTART:20231029T010000
END:STANDARD
BEGIN:DAYLIGHT
TZOFFSETFROM:+0100
TZOFFSETTO:+0200
TZNAME:CEST
DTSTART:20240331T010000
END:DAYLIGHT
BEGIN:STANDARD
TZOFFSETFROM:+0200
TZOFFSETTO:+0100
TZNAME:CET
DTSTART:20241027T010000
END:STANDARD
BEGIN:DAYLIGHT
TZOFFSETFROM:+0100
TZOFFSETTO:+0200
TZNAME:CEST
DTSTART:20250330T010000
END:DAYLIGHT
BEGIN:STANDARD
TZOFFSETFROM:+0200
TZOFFSETTO:+0100
TZNAME:CET
DTSTART:20251026T010000
END:STANDARD
BEGIN:DAYLIGHT
TZOFFSETFROM:+0100
TZOFFSETTO:+0200
TZNAME:CEST
DTSTART:20260329T010000
END:DAYLIGHT
BEGIN:STANDARD
TZOFFSETFROM:+0200
TZOFFSETTO:+0100
TZNAME:CET
DTSTART:20261025T010000
END:STANDARD
END:VTIMEZONE
BEGIN:VEVENT
DTSTART;TZID=Europe/Berlin:20241008T093000
DTEND;TZID=Europe/Berlin:20241008T120000
DTSTAMP:20260421T051852
CREATED:20201214T130048Z
LAST-MODIFIED:20240723T122551Z
UID:260112-1728379800-1728388800@ideenwald-oekosystem.de
SUMMARY:Basiswissen Freiberuflichkeit – im Vollerwerb oder als Nebentätigkeit
DESCRIPTION:Durch einen sehr praxisnahen Workshop vermittelt euch das Institut für Freie Berufe (IFB) das grundlegende Basiswissen für Existenzgründung in einem Freien Beruf oder eine Nebenberuflichkeit. Die Inhalte des Workshops sind: Wann liegt eine Gründung im Nebenerwerb vor? Bin ich Freiberufler/in oder muss ich ein Gewerbe anmelden? Welche rechtlichen Aspekte muss ich bei der Gründung beachten? Wie erstelle ich eine korrekte Rechnung? Muss ich Steuern zahlen? Welche steuerlichen Aspekte kommen auf mich zu? Die Teilnahme ist kostenlos und wird vom Ministerium für Wirtschaft\, Verkehr\, Landwirtschaft und Weinbau Rheinland-Pfalz gefördert. Das IFB bietet am 11.10.2024 einstündige telefonische Einzelberatungen für Studierende und Mitarbeiter*innen der RPTU&HS Kaiserslautern an. Anmeldung erforderlich unter http://ifb.uni-erlangen.de/veranstaltungen-rheinland-pfalz/ Anmeldung für den Workshop geht über die Gründungsbüro Seite: Gründungsbüro – Basiswissen Freiberuflichkeit
URL:https://ideenwald-oekosystem.de/event/basiswissen-freiberuflichkeit-2024/
LOCATION:Online-Veranstaltung
CATEGORIES:Infoveranstaltung,Online-Veranstaltung
ATTACH;FMTTYPE=image/jpeg:https://ideenwald-oekosystem.de/wp-content/uploads/2023/06/herbst-10-figur.jpg
ORGANIZER;CN="Gr%C3%BCndungsb%C3%BCro TU&HS Kaiserslautern":MAILTO:info@gruendungsbuero.info
END:VEVENT
BEGIN:VEVENT
DTSTART;VALUE=DATE:20241022
DTEND;VALUE=DATE:20241023
DTSTAMP:20260421T051852
CREATED:20201212T020042Z
LAST-MODIFIED:20240816T091915Z
UID:260117-1729555200-1729641599@ideenwald-oekosystem.de
SUMMARY:SocialPizza - Sozialversicherung für Gründende und Startups
DESCRIPTION:Du startest gerade dein erstes Business oder trittst in die Selbständigkeit ein? Dann ist das hier genau der richtige Workshop für dich! Mit dem SocialPizza-Team der Techniker Krankenkasse wird Startup-Beraterin Julia Koziol einen Workshop halten. Da stellen sie die Basics der Sozialversicherung vor\, die beginnende Unternehmer*innen so gebrauchen können\, um sicher in ihre Selbstständigkeit starten zu können! Dabei werden sie sich darauf konzentrieren alles mögliche rund um Versicherungen\, Beitragswesen\, Meldung und Einstellung von Mitarbeitenden und Praktikant*innen in diesem Workshop zu behandeln! Die Inhalte sind nach den verschiedenen Phasen einer Selbstständigkeit\, wie unterschiedliche Stücke Pizza\, sortiert. Die genaue Uhrzeit des Workshops steht noch nicht fest. Die wird später noch bekannt gegeben. Wenn ihr euch für den Workshop interessiert könnt ihr euch noch bis zum 20.10. hier anmelden: Gründungsbüro – Anmeldung
URL:https://ideenwald-oekosystem.de/event/socialpizza-sozialversicherung-fuer-gruendende-und-startups/
LOCATION:Online-Veranstaltung
CATEGORIES:Online-Veranstaltung,Workshop
ATTACH;FMTTYPE=image/png:https://ideenwald-oekosystem.de/wp-content/uploads/2023/08/herbst-1-figur.png
END:VEVENT
BEGIN:VEVENT
DTSTART;TZID=Europe/Berlin:20241023T160000
DTEND;TZID=Europe/Berlin:20250116T190000
DTSTAMP:20260421T051852
CREATED:20201019T160015Z
LAST-MODIFIED:20240723T113652Z
UID:260088-1729699200-1737054000@ideenwald-oekosystem.de
SUMMARY:Innovative Thinker - Zertifikatskurs
DESCRIPTION:Der Kurs ist zurzeit ausgebucht. Es gibt eine Warteliste. Bitte schreibt zur Aufnahme auf die Liste eine Mail an moeller@gruendungsbuero.info.  \nAm 23. Oktober startet bereits die dritte Reihe des Innovative Thinker – Zertifikatskurs. Vier Teile des Kurses sind Online und und zwei finden am Campus Kammgarn\, der Hochschule Kaiserslautern statt. \nStudierende & Mitarbeitende der Hochschule Kaiserslautern sowie der Rheinland-Pfälzischen Technischen Universität Kaiserslautern-Landau können an den Kursen teilnehmen und erhalten am Ende ein Zertifikat. Dazu müsst ihr an insgesamt vier Workshops innerhalb der Veranstaltungsreihe teilnehmen. \nTermine & Themen: \n23.10.2024 16 – 19 Uhr Kreativitätstechniken mit Christian Thurnes -online-\n06.11.2024 14 – 17 Uhr Design Thinking Basics mit Bernhard Lorig -Campus Kammgarn-\n21.11.2024 16 – 19 Uhr Geschäftsmodellentwicklung mit Christian Thurnes -online-\n05.12.2024 16 – 19 Uhr Prototyping mit Lego® mit Christian Thurnes -Campus Kammgarn-\n09.01.2025 14 – 17 Uhr Crowdfunding + Pitch mit Bernhard Lorig -online-\n16.01.2025 16 – 19 Uhr Geht nicht? – Doch! mit Christian Thurnes -online- \nWeiterführende Infos findet ihr auch auf der folgender Webseite: Innovative Thinker \nWir freuen uns alle Innovator*innen! \nAnmeldung über die folgende Webseite:\nGründungsbüro – Innovative Thinker
URL:https://ideenwald-oekosystem.de/event/innovative-thinker-zertifikatskurs/
LOCATION:Campus Kammgarn\, Schoenstraße 11\, Kaiserslautern\, Rheinland Pfalz\, 67659\, Deutschland
CATEGORIES:Hybrid-Veranstaltung,Workshop
ATTACH;FMTTYPE=image/png:https://ideenwald-oekosystem.de/wp-content/uploads/2023/05/herbst-2-figur.png
END:VEVENT
END:VCALENDAR